#------------------------------------------------------------------------------
#$Date: 2022-09-25 22:10:12 +0300 (Sun, 25 Sep 2022) $
#$Revision: 278158 $
#$URL: file:///home/coder/svn-repositories/cod/cif/1/00/10/1001069.cif $
#------------------------------------------------------------------------------
#
# This file is available in the Crystallography Open Database (COD),
# http://www.crystallography.net/
#
# All data on this site have been placed in the public domain by the
# contributors.
#
data_1001069
loop_
_publ_author_name
'Hervieu, M'
'Raveau, B'
_publ_section_title
;
Les Perovskites (Ca₁₋ₓ Srₓ) (Ca~.3333~ Nb~.6667~) O₃
;
_journal_coden_ASTM              JSSCBI
_journal_name_full               'Journal of Solid State Chemistry'
_journal_page_first              209
_journal_page_last               222
_journal_paper_doi               10.1016/0022-4596(79)90073-2
_journal_volume                  28
_journal_year                    1979
_chemical_formula_structural     'Ca.90 Sr.10 Ca.3333 Nb.6667 O3'
_chemical_formula_sum            'Ca1.2333 Nb0.6667 O3 Sr0.1'
_chemical_name_systematic
;
CALCIUM STRONTIUM NIOBIUM OXIDE (1.2/0.1/0.7/3)
;
_cell_angle_alpha                90
_cell_angle_beta                 90
_cell_angle_gamma                90
_cell_formula_units_Z            32
_cell_length_a                   11.54
_cell_length_b                   16.04
_cell_length_c                   11.18
_cell_volume                     2069.4
_exptl_crystal_density_meas      4.28
_cod_original_formula_sum        'Ca1.2333 Nb.6667 O3 Sr.1'
_cod_database_code               1001069
loop_
_atom_site_label
_atom_site_fract_x
_atom_site_fract_y
_atom_site_fract_z
? ? ? ?
