#------------------------------------------------------------------------------
#$Date: 2015-01-27 21:58:39 +0200 (Tue, 27 Jan 2015) $
#$Revision: 130149 $
#$URL: svn://www.crystallography.net/cod/cif/1/00/82/1008236.cif $
#------------------------------------------------------------------------------
#
# This file is available in the Crystallography Open Database (COD),
# http://www.crystallography.net/
#
# All data on this site have been placed in the public domain by the
# contributors.
#
data_1008236
loop_
_publ_author_name
'Bertaut, F'
'Gondrand, M'
_publ_section_title
;
Etude des combinaisons d'oxydes de terres rares et de lithium du type T
Li O₂
;
_journal_coden_ASTM              COREAF
_journal_name_full
;
Comptes Rendus Hebdomadaires des Seances de l'Academie des Sciences
(1884 - 1965)
;
_journal_page_first              1135
_journal_page_last               1137
_journal_volume                  255
_journal_year                    1962
_chemical_formula_structural     'Ho Li O2'
_chemical_formula_sum            'Ho Li O2'
_chemical_name_systematic        'Holmium lithium oxide'
_space_group_IT_number           14
_symmetry_cell_setting           monoclinic
_symmetry_Int_Tables_number      14
_symmetry_space_group_name_Hall  '-P 2ybc'
_symmetry_space_group_name_H-M   'P 1 21/c 1'
_cell_angle_alpha                90
_cell_angle_beta                 119.33
_cell_angle_gamma                90
_cell_formula_units_Z            0
_cell_length_a                   6.14
_cell_length_b                   6.19
_cell_length_c                   6.23
_cell_volume                     206.4
_cod_database_code               1008236
loop_
_symmetry_equiv_pos_as_xyz
x,y,z
-x,1/2+y,1/2-z
-x,-y,-z
x,1/2-y,1/2+z
loop_
_atom_site_label
_atom_site_fract_x
_atom_site_fract_y
_atom_site_fract_z
? ? ? ?
