#------------------------------------------------------------------------------
#$Date: 2022-09-25 22:10:12 +0300 (Sun, 25 Sep 2022) $
#$Revision: 278158 $
#$URL: file:///home/coder/svn-repositories/cod/cif/1/01/06/1010679.cif $
#------------------------------------------------------------------------------
#
# This file is available in the Crystallography Open Database (COD),
# http://www.crystallography.net/
#
# All data on this site have been placed in the public domain by the
# contributors.
#
data_1010679
loop_
_publ_author_name
'Klasens, H A'
'Perdok, W G'
'Terpstra, P'
_publ_section_title
;
Crystallography of magnesium-sulphite, cobalt-sulphite and nickel-
sulphite
;
_journal_coden_ASTM              ZEKGAX
_journal_name_full
;
Zeitschrift fuer Kristallographie, Kristallgeometrie, Kristallphysik,
Kristallchemie (-144,1977)
;
_journal_page_first              1
_journal_page_last               6
_journal_volume                  94
_journal_year                    1936
_chemical_formula_structural     'Co S O3 (H2 O)6'
_chemical_formula_sum            'Co H12 O9 S'
_chemical_name_systematic        'Cobalt sulfate(IV) hexahydrate'
_space_group_IT_number           146
_symmetry_cell_setting           trigonal
_symmetry_Int_Tables_number      146
_symmetry_space_group_name_Hall  'P 3*'
_symmetry_space_group_name_H-M   'R 3 :R'
_cell_angle_alpha                96.37
_cell_angle_beta                 96.37
_cell_angle_gamma                96.37
_cell_formula_units_Z            1
_cell_length_a                   8.822
_cell_length_b                   8.822
_cell_length_c                   8.822
_cell_volume                     672.8
_cod_original_sg_symbol_H-M      'R 3 R'
_cod_original_formula_sum        'H12 Co O9 S'
_cod_database_code               1010679
loop_
_symmetry_equiv_pos_as_xyz
x,y,z
y,z,x
z,x,y
loop_
_atom_site_label
_atom_site_fract_x
_atom_site_fract_y
_atom_site_fract_z
? ? ? ?
