#------------------------------------------------------------------------------
#$Date: 2022-09-25 22:10:12 +0300 (Sun, 25 Sep 2022) $
#$Revision: 278158 $
#$URL: file:///home/coder/svn-repositories/cod/cif/1/01/06/1010684.cif $
#------------------------------------------------------------------------------
#
# This file is available in the Crystallography Open Database (COD),
# http://www.crystallography.net/
#
# All data on this site have been placed in the public domain by the
# contributors.
#
data_1010684
loop_
_publ_author_name
'Kraus, O'
_publ_section_title
;
Untersuchungen ueber das Kristallgitter von Heteropoly-saeuren und
deren Salzen
;
_journal_coden_ASTM              ZEKGAX
_journal_name_full
;
Zeitschrift fuer Kristallographie, Kristallgeometrie, Kristallphysik,
Kristallchemie (-144,1977)
;
_journal_page_first              256
_journal_page_last               279
_journal_volume                  94
_journal_year                    1936
_chemical_formula_structural     'Ba2 Si W12 O40 (H2 O)24'
_chemical_formula_sum            'Ba2 H48 O64 Si W12'
_chemical_name_systematic        'Barium dodecatungstosilicate 24-hydrate'
_space_group_IT_number           166
_symmetry_cell_setting           trigonal
_symmetry_Int_Tables_number      166
_symmetry_space_group_name_Hall  '-P 3* 2'
_symmetry_space_group_name_H-M   'R -3 m :R'
_cell_angle_alpha                56.87
_cell_angle_beta                 56.87
_cell_angle_gamma                56.87
_cell_formula_units_Z            2
_cell_length_a                   16.21
_cell_length_b                   16.21
_cell_length_c                   16.21
_cell_volume                     2794.3
_cod_original_sg_symbol_H-M      'R -3 m R'
_cod_original_formula_sum        'H48 Ba2 O64 Si W12'
_cod_database_code               1010684
loop_
_symmetry_equiv_pos_as_xyz
x,y,z
y,x,z
y,z,x
x,z,y
z,x,y
z,y,x
-x,-y,-z
-y,-x,-z
-y,-z,-x
-x,-z,-y
-z,-x,-y
-z,-y,-x
loop_
_atom_site_label
_atom_site_fract_x
_atom_site_fract_y
_atom_site_fract_z
? ? ? ?
