#------------------------------------------------------------------------------
#$Date: 2022-09-25 22:10:12 +0300 (Sun, 25 Sep 2022) $
#$Revision: 278158 $
#$URL: file:///home/coder/svn-repositories/cod/cif/1/01/07/1010715.cif $
#------------------------------------------------------------------------------
#
# This file is available in the Crystallography Open Database (COD),
# http://www.crystallography.net/
#
# All data on this site have been placed in the public domain by the
# contributors.
#
data_1010715
loop_
_publ_author_name
'Strunz, H'
_publ_section_title
;
Ueber Kristallographie und chemische Zusammensetzung von Lawsonit und
Lievrit
;
_journal_coden_ASTM              ZEKGAX
_journal_name_full
;
Zeitschrift fuer Kristallographie, Kristallgeometrie, Kristallphysik,
Kristallchemie (-144,1977)
;
_journal_page_first              504
_journal_page_last               506
_journal_volume                  96
_journal_year                    1937
_chemical_formula_structural     'Ca Si2 Al2 O8 (H2 O)2'
_chemical_formula_sum            'Al2 Ca H4 O10 Si2'
_chemical_name_mineral           Lawsonite
_chemical_name_systematic
;
Calcium tecto-octaoxodialumodisilicate dihydrate
;
_cell_angle_alpha                90
_cell_angle_beta                 90
_cell_angle_gamma                90
_cell_formula_units_Z            0
_cell_length_a                   8.85
_cell_length_b                   13.22
_cell_length_c                   5.87
_cell_volume                     686.8
_cod_original_formula_sum        'H4 Al2 Ca O10 Si2'
_cod_database_code               1010715
loop_
_atom_site_label
_atom_site_fract_x
_atom_site_fract_y
_atom_site_fract_z
? ? ? ?
