#------------------------------------------------------------------------------
#$Date: 2014-05-25 11:28:04 +0300 (Sun, 25 May 2014) $
#$Revision: 114540 $
#$URL: svn://www.crystallography.net/cod/cif/1/01/07/1010776.cif $
#------------------------------------------------------------------------------
#
# This file is available in the Crystallography Open Database (COD),
# http://www.crystallography.net/
#
# All data on this site have been placed in the public domain by the
# contributors.
#
data_1010776
_chemical_name_systematic          'Fluorotrichloromethane'
_chemical_formula_structural       'F C Cl3'
_chemical_formula_sum              'C Cl3 F'
_publ_section_title
;
Interatomic distances of F C Cl₃ and F C Br₃
;
loop_
_publ_author_name
  'Wouters, J'
  'De Hemptinne, M'
_journal_name_full                 'Nature (London)'
_journal_coden_ASTM                NATUAS
_journal_volume                    141
_journal_year                      1938
_journal_page_first                412
_journal_page_last                 413
loop_
_atom_site_label
_atom_site_fract_x
_atom_site_fract_y
_atom_site_fract_z
? ? ? ?
_cod_database_code 1010776
