#------------------------------------------------------------------------------
#$Date: 2012-02-28 14:14:52 +0200 (Tue, 28 Feb 2012) $
#$Revision: 35911 $
#$URL: svn://www.crystallography.net/cod/cif/1/01/08/1010853.cif $
#------------------------------------------------------------------------------
#
# This file is available in the Crystallography Open Database (COD),
# http://www.crystallography.net/
#
# All data on this site have been placed in the public domain by the
# contributors.
#
data_1010853
_chemical_name_systematic          'Lead iron cyanide'
_chemical_formula_structural       'Pb Fe (C N)4'
_chemical_formula_sum              'Fe N4 Pb'
_publ_section_title
;
The Structure of Semipermeable Membranes of Inorganic Salts.
;
loop_
_publ_author_name
  'Fordham, S'
  'Tyson, J T'
_journal_name_full                 'Journal of the Chemical Society'
_journal_coden_ASTM                JCSOA9
_journal_volume                    1937
_journal_year                      1937
_journal_page_first                483
_journal_page_last                 487
_cell_length_a                     8.28
_cell_length_b                     8.28
_cell_length_c                     8.28
_cell_angle_alpha                  90
_cell_angle_beta                   90
_cell_angle_gamma                  90
_cell_volume                       567.7
_cell_formula_units_Z              1
loop_
_atom_site_label
_atom_site_fract_x
_atom_site_fract_y
_atom_site_fract_z
? ? ? ?
_cod_database_code 1010853
