#------------------------------------------------------------------------------
#$Date: 2017-10-13 02:32:00 +0300 (Fri, 13 Oct 2017) $
#$Revision: 201954 $
#$URL: file:///home/coder/svn-repositories/cod/cif/1/50/17/1501723.cif $
#------------------------------------------------------------------------------
#
# This file is available in the Crystallography Open Database (COD),
# http://www.crystallography.net/
#
# All data on this site have been placed in the public domain by the
# contributors.
#
data_1501723
loop_
_publ_author_name
'Naumov, Panče'
'Topcu, Yildiray'
'Eckert-Maksić, Mirjana'
'Glasovac, Zoran'
'Pavošević, Fabijan'
'Kochunnoonny, Manoj'
'Hara, Hideyuki'
_publ_section_title
;
 Photoinduced rearrangement of aromatic N-chloroamides to chloroaromatic
 amides in the solid state: inverted Π(N)-Σ(N) occupational stability of
 amidyl radicals.
;
_journal_issue                   26
_journal_name_full               'The journal of physical chemistry. A'
_journal_page_first              7834
_journal_page_last               7848
_journal_paper_doi               10.1021/jp203771c
_journal_volume                  115
_journal_year                    2011
_chemical_formula_moiety         C9H10Cl1N1O1
_chemical_formula_sum            'C9 H10 Cl N O'
_chemical_formula_weight         183.63
_chemical_name_common            meta-methyl-N-chloroacetanilide
_chemical_name_systematic
; 
 ? 
;
_space_group_IT_number           14
_symmetry_cell_setting           monoclinic
_symmetry_space_group_name_Hall  '-P 2ybc'
_symmetry_space_group_name_H-M   'P 1 21/c 1'
_atom_sites_solution_hydrogens   geom
_atom_sites_solution_primary     direct
_atom_sites_solution_secondary   difmap
_audit_creation_method           SHELXL-97
_cell_angle_alpha                90.00
_cell_angle_beta                 100.15(2)
_cell_angle_gamma                90.00
_cell_formula_units_Z            4
_cell_length_a                   7.705(12)
_cell_length_b                   7.146(11)
_cell_length_c                   17.57(3)
_cell_measurement_temperature    293(2)
_cell_volume                     952(3)
_computing_cell_refinement       'APEX2 software (Bruker, 2007)'
_computing_data_collection       'APEX2 software (Bruker, 2007)'
_computing_data_reduction        'SAINT (Bruker, 2007)'
_computing_molecular_graphics    'DIAMOND (Brandenburg, 2005)'
_computing_publication_material  'WinGX (Farrugia, 1999)'
_computing_structure_refinement  'SHELXL-97 (Sheldrick, 2008)'
_computing_structure_solution    'SHELXS-97 (Sheldrick, 2008)'
_diffrn_ambient_temperature      293(2)
_diffrn_measured_fraction_theta_full 0.888
_diffrn_measured_fraction_theta_max 0.888
_diffrn_measurement_device_type  'Bruker SMART APEX2 diffractometer'
_diffrn_measurement_method       'φ and ω scans'
_diffrn_radiation_monochromator  'multilayer confocal TXS mirror'
_diffrn_radiation_source         'rotating anode'
_diffrn_radiation_type           MoK\a
_diffrn_radiation_wavelength     0.71073
_diffrn_reflns_av_R_equivalents  0.1348
_diffrn_reflns_av_sigmaI/netI    0.1138
_diffrn_reflns_limit_h_max       9
_diffrn_reflns_limit_h_min       -9
_diffrn_reflns_limit_k_max       7
_diffrn_reflns_limit_k_min       -8
_diffrn_reflns_limit_l_max       16
_diffrn_reflns_limit_l_min       -21
_diffrn_reflns_number            3556
_diffrn_reflns_theta_full        25.99
_diffrn_reflns_theta_max         25.99
_diffrn_reflns_theta_min         2.35
_exptl_absorpt_coefficient_mu    0.353
_exptl_absorpt_correction_T_max  0.98
_exptl_absorpt_correction_T_min  0.92
_exptl_absorpt_correction_type   empirical
_exptl_absorpt_process_details   'SADABS (Sheldrick, 1996)'
_exptl_crystal_colour            colourless
_exptl_crystal_density_diffrn    1.281
_exptl_crystal_density_method    'not measured'
_exptl_crystal_description       plate
_exptl_crystal_F_000             384
_exptl_crystal_size_max          0.15
_exptl_crystal_size_mid          0.15
_exptl_crystal_size_min          0.02
_refine_diff_density_max         0.755
_refine_diff_density_min         -0.831
_refine_diff_density_rms         0.281
_refine_ls_extinction_method     none
_refine_ls_goodness_of_fit_ref   1.516
_refine_ls_hydrogen_treatment    constr
_refine_ls_matrix_type           full
_refine_ls_number_parameters     111
_refine_ls_number_reflns         1657
_refine_ls_number_restraints     0
_refine_ls_restrained_S_all      1.516
_refine_ls_R_factor_all          0.1931
_refine_ls_R_factor_gt           0.1477
_refine_ls_shift/su_max          0.006
_refine_ls_shift/su_mean         0.000
_refine_ls_structure_factor_coef Fsqd
_refine_ls_weighting_details
'calc w=1/[σ²(Fo²)+(0.2000P)²+0.0000P] where P=(Fo²+2Fc²)/3'
_refine_ls_weighting_scheme      calc
_refine_ls_wR_factor_gt          0.3846
_refine_ls_wR_factor_ref         0.4593
_reflns_number_gt                781
_reflns_number_total             1657
_reflns_threshold_expression     >2sigma(I)
_cod_data_source_file            jp203771c_si_002.cif
_cod_data_source_block           3a
_cod_depositor_comments
;
The following automatic conversions were performed:

'_symmetry_cell_setting' value 'Monoclinic' changed to 'monoclinic'
according to /home/saulius/struct/CIF-dictionaries/cif_core.dic
dictionary named 'cif_core.dic' version 2.4.1 from 2010-06-29.

Automatic conversion script
Id: cif_fix_values 1715 2011-07-08 13:25:40Z adriana 
;
_cod_original_sg_symbol_H-M      P2(1)/c
_cod_original_formula_sum        C9H10Cl1N1O1
_cod_database_code               1501723
loop_
_symmetry_equiv_pos_as_xyz
'x, y, z'
'-x, y+1/2, -z+1/2'
'-x, -y, -z'
'x, -y-1/2, z-1/2'
loop_
_atom_site_label
_atom_site_type_symbol
_atom_site_fract_x
_atom_site_fract_y
_atom_site_fract_z
_atom_site_U_iso_or_equiv
_atom_site_adp_type
_atom_site_occupancy
_atom_site_symmetry_multiplicity
_atom_site_calc_flag
_atom_site_refinement_flags
C8 C 0.2877(10) -0.1311(8) 0.5727(4) 0.090(2) Uani 1 1 d .
H8A H 0.1777 -0.1390 0.5910 0.135 Uiso 1 1 calc R
H8B H 0.3773 -0.0841 0.6132 0.135 Uiso 1 1 calc R
H8C H 0.3207 -0.2531 0.5574 0.135 Uiso 1 1 calc R
O1 O 0.2622(7) -0.0558(7) 0.4371(3) 0.0934(17) Uani 1 1 d .
C1 C 0.2700(7) 0.2728(7) 0.5964(3) 0.0608(15) Uani 1 1 d .
C2 C 0.1230(8) 0.2966(7) 0.6254(3) 0.0673(17) Uani 1 1 d .
H2 H 0.0153 0.2603 0.5965 0.081 Uiso 1 1 calc R
C3 C 0.1285(8) 0.3777(6) 0.7006(3) 0.0643(17) Uani 1 1 d .
C4 C 0.2912(8) 0.4340(7) 0.7396(3) 0.0693(17) Uani 1 1 d .
H4 H 0.2991 0.4885 0.7882 0.083 Uiso 1 1 calc R
C5 C 0.4445(8) 0.4117(8) 0.7085(4) 0.0725(18) Uani 1 1 d .
H5 H 0.5523 0.4512 0.7364 0.087 Uiso 1 1 calc R
C6 C 0.4369(8) 0.3304(7) 0.6356(3) 0.0707(17) Uani 1 1 d .
H6 H 0.5377 0.3149 0.6139 0.085 Uiso 1 1 calc R
C7 C 0.2679(7) -0.0002(8) 0.5040(3) 0.0652(16) Uani 1 1 d .
C9 C -0.0372(9) 0.4002(8) 0.7342(5) 0.083(2) Uani 1 1 d .
H9A H -0.0935 0.5162 0.7168 0.124 Uiso 1 1 calc R
H9B H -0.0079 0.4006 0.7896 0.124 Uiso 1 1 calc R
H9C H -0.1159 0.2982 0.7176 0.124 Uiso 1 1 calc R
N1 N 0.2570(8) 0.1857(6) 0.5205(3) 0.0761(17) Uani 1 1 d .
Cl1 Cl 0.2361(4) 0.3385(3) 0.44413(11) 0.1252(14) Uani 1 1 d .
loop_
_atom_site_aniso_label
_atom_site_aniso_U_11
_atom_site_aniso_U_22
_atom_site_aniso_U_33
_atom_site_aniso_U_23
_atom_site_aniso_U_13
_atom_site_aniso_U_12
C8 0.141(6) 0.045(3) 0.076(4) -0.004(3) -0.003(4) 0.001(3)
O1 0.127(4) 0.082(3) 0.064(3) -0.024(2) -0.001(3) -0.011(2)
C1 0.078(3) 0.043(2) 0.053(3) 0.002(2) -0.011(2) 0.001(2)
C2 0.080(4) 0.042(2) 0.070(3) -0.003(2) -0.014(3) -0.004(2)
C3 0.087(4) 0.034(2) 0.064(3) 0.000(2) -0.007(3) 0.007(2)
C4 0.089(4) 0.052(3) 0.060(3) -0.011(2) -0.007(3) 0.006(2)
C5 0.066(4) 0.072(3) 0.072(4) -0.011(3) -0.008(3) -0.002(2)
C6 0.088(4) 0.060(3) 0.059(3) -0.004(2) 0.002(3) 0.001(2)
C7 0.075(3) 0.058(3) 0.058(3) -0.011(3) -0.001(2) -0.002(2)
C9 0.087(4) 0.058(3) 0.101(5) -0.003(3) 0.010(4) 0.002(3)
N1 0.123(4) 0.051(3) 0.048(3) 0.002(2) -0.001(3) 0.008(2)
Cl1 0.223(3) 0.0792(16) 0.0639(14) 0.0185(8) -0.0018(16) 0.0078(12)
loop_
_atom_type_symbol
_atom_type_description
_atom_type_scat_dispersion_real
_atom_type_scat_dispersion_imag
_atom_type_scat_source
C C 0.0033 0.0016 'International Tables Vol C Tables 4.2.6.8 and 6.1.1.4'
N N 0.0061 0.0033 'International Tables Vol C Tables 4.2.6.8 and 6.1.1.4'
Cl Cl 0.1484 0.1585 'International Tables Vol C Tables 4.2.6.8 and 6.1.1.4'
O O 0.0106 0.0060 'International Tables Vol C Tables 4.2.6.8 and 6.1.1.4'
H H 0.0000 0.0000 'International Tables Vol C Tables 4.2.6.8 and 6.1.1.4'
loop_
_geom_angle_atom_site_label_1
_geom_angle_atom_site_label_2
_geom_angle_atom_site_label_3
_geom_angle
C7 C8 H8A 109.5
C7 C8 H8B 109.5
H8A C8 H8B 109.5
C7 C8 H8C 109.5
H8A C8 H8C 109.5
H8B C8 H8C 109.5
C2 C1 C6 122.7(5)
C2 C1 N1 118.6(5)
C6 C1 N1 118.8(6)
C1 C2 C3 120.9(5)
C1 C2 H2 119.5
C3 C2 H2 119.5
C4 C3 C2 116.9(6)
C4 C3 C9 122.2(6)
C2 C3 C9 120.9(5)
C3 C4 C5 122.0(6)
C3 C4 H4 119.0
C5 C4 H4 119.0
C6 C5 C4 120.3(5)
C6 C5 H5 119.8
C4 C5 H5 119.8
C5 C6 C1 117.2(6)
C5 C6 H6 121.4
C1 C6 H6 121.4
O1 C7 N1 121.5(5)
O1 C7 C8 122.8(5)
N1 C7 C8 115.7(5)
C3 C9 H9A 109.5
C3 C9 H9B 109.5
H9A C9 H9B 109.5
C3 C9 H9C 109.5
H9A C9 H9C 109.5
H9B C9 H9C 109.5
C7 N1 C1 127.7(4)
C7 N1 Cl1 117.0(4)
C1 N1 Cl1 115.2(4)
loop_
_geom_bond_atom_site_label_1
_geom_bond_atom_site_label_2
_geom_bond_distance
C8 C7 1.513(9)
C8 H8A 0.9600
C8 H8B 0.9600
C8 H8C 0.9600
O1 C7 1.235(7)
C1 C2 1.332(9)
C1 C6 1.409(8)
C1 N1 1.459(7)
C2 C3 1.437(9)
C2 H2 0.9300
C3 C4 1.379(8)
C3 C9 1.507(10)
C4 C5 1.396(10)
C4 H4 0.9300
C5 C6 1.399(9)
C5 H5 0.9300
C6 H6 0.9300
C7 N1 1.365(8)
C9 H9A 0.9600
C9 H9B 0.9600
C9 H9C 0.9600
N1 Cl1 1.716(5)
loop_
_cod_related_entry_id
_cod_related_entry_database
_cod_related_entry_code
1 ChemSpider 11215081
