#------------------------------------------------------------------------------
#$Date: 2016-02-14 16:26:36 +0200 (Sun, 14 Feb 2016) $
#$Revision: 176435 $
#$URL: svn://www.crystallography.net/cod/cif/1/50/90/1509003.cif $
#------------------------------------------------------------------------------
#
# This file is available in the Crystallography Open Database (COD),
# http://www.crystallography.net/
#
# All data on this site have been placed in the public domain by the
# contributors.
#
data_1509003
loop_
_publ_author_name
'Fujiwara, H.'
'Kadomatsu, H.'
'Kurisu, M.'
'Tokunaga, T.'
'Kawanishi, Y.'
_publ_section_title
;
 Structural phase transitions in Y Cu1-x Mx (M= Ni, Ag and Ga)
;
_journal_name_full               'Journal of the Less-Common Metals'
_journal_page_first              29
_journal_page_last               36
_journal_paper_doi               10.1016/0022-5088(88)90207-X
_journal_volume                  141
_journal_year                    1988
_chemical_formula_sum            'Ag0.1 Cu0.9 Y'
_chemical_name_systematic        'Silver copper yttrium (0.1/0.9/1)'
_space_group_IT_number           221
_symmetry_space_group_name_Hall  '-P 4 2 3'
_symmetry_space_group_name_H-M   'P m -3 m'
_cell_angle_alpha                90
_cell_angle_beta                 90
_cell_angle_gamma                90
_cell_formula_units_Z            1
_cell_length_a                   3.51
_cell_length_b                   3.51
_cell_length_c                   3.51
_cell_volume                     43.244
_citation_journal_id_ASTM        JCOMAH
_cod_data_source_file            silver0-1_13.cif
_cod_data_source_block           Ag0.1Cu0.9Y1
_cod_original_cell_volume        43.24355
_cod_original_formula_sum        'Ag0.1 Cu0.9 Y1'
_cod_database_code               1509003
loop_
_symmetry_equiv_pos_as_xyz
x,y,z
-y,x,z
-x,-y,z
y,-x,z
x,-y,-z
y,x,-z
-x,y,-z
-y,-x,-z
z,x,y
-x,z,y
-z,-x,y
x,-z,y
z,-x,-y
x,z,-y
-z,x,-y
-x,-z,-y
y,z,x
y,-z,-x
z,y,-x
-y,z,-x
-z,-y,-x
-y,-z,x
z,-y,x
-z,y,x
-x,-y,-z
y,-x,-z
x,y,-z
-y,x,-z
-x,y,z
-y,-x,z
x,-y,z
y,x,z
-z,-x,-y
x,-z,-y
z,x,-y
-x,z,-y
-z,x,y
-x,-z,y
z,-x,y
x,z,y
-y,-z,-x
-y,z,x
-z,-y,x
y,-z,x
z,y,x
y,z,-x
-z,y,-x
z,-y,-x
loop_
_atom_site_label
_atom_site_type_symbol
_atom_site_fract_x
_atom_site_fract_y
_atom_site_fract_z
_atom_site_occupancy
Ag1 Ag 0 0 0 0.1
Cu1 Cu 0 0 0 0.9
Y1 Y 0.5 0.5 0.5 1
