#------------------------------------------------------------------------------
#$Date: 2018-09-27 07:13:35 +0300 (Thu, 27 Sep 2018) $
#$Revision: 211196 $
#$URL: file:///home/coder/svn-repositories/cod/cif/1/50/92/1509214.cif $
#------------------------------------------------------------------------------
#
# This file is available in the Crystallography Open Database (COD),
# http://www.crystallography.net/
#
# All data on this site have been placed in the public domain by the
# contributors.
#
data_1509214
loop_
_publ_author_name
'Obrowski, W.'
_publ_section_title
;
 Die Struktur der Diboride von Gold und Silber
;
_journal_name_full               Naturwissenschaften
_journal_page_first              428
_journal_page_last               428
_journal_volume                  48
_journal_year                    1961
_chemical_formula_sum            'Ag B2'
_space_group_IT_number           191
_symmetry_space_group_name_Hall  '-P 6 2'
_symmetry_space_group_name_H-M   'P 6/m m m'
_cell_angle_alpha                90
_cell_angle_beta                 90
_cell_angle_gamma                120
_cell_formula_units_Z            1
_cell_length_a                   3
_cell_length_b                   3
_cell_length_c                   3.24
_cell_volume                     25.253
_citation_journal_id_ASTM        NATWAY
_cod_data_source_file            silver1-2_59.cif
_cod_data_source_block           Ag1B2
_cod_original_cell_volume        25.2533
_cod_original_formula_sum        'Ag1 B2'
_cod_database_code               1509214
loop_
_symmetry_equiv_pos_as_xyz
x,y,z
x-y,x,z
-y,x-y,z
-x,-y,z
-x+y,-x,z
y,-x+y,z
-y,-x,-z
x-y,-y,-z
x,x-y,-z
y,x,-z
-x+y,y,-z
-x,-x+y,-z
-x,-y,-z
-x+y,-x,-z
y,-x+y,-z
x,y,-z
x-y,x,-z
-y,x-y,-z
y,x,z
-x+y,y,z
-x,-x+y,z
-y,-x,z
x-y,-y,z
x,x-y,z
loop_
_atom_site_label
_atom_site_type_symbol
_atom_site_fract_x
_atom_site_fract_y
_atom_site_fract_z
_atom_site_occupancy
_atom_site_U_iso_or_equiv
B1 B 0.3333 0.6667 0.5 1 0.0
Ag1 Ag 0 0 0 1 0.0
