#------------------------------------------------------------------------------
#$Date: 2018-09-27 07:13:35 +0300 (Thu, 27 Sep 2018) $
#$Revision: 211196 $
#$URL: file:///home/coder/svn-repositories/cod/cif/1/50/95/1509516.cif $
#------------------------------------------------------------------------------
#
# This file is available in the Crystallography Open Database (COD),
# http://www.crystallography.net/
#
# All data on this site have been placed in the public domain by the
# contributors.
#
data_1509516
loop_
_publ_author_name
'Schneider, A.'
'Esch, U.'
_publ_section_title
;
 Das System Silber-Platin. Ein Beitrag zur Frage der Spannungskorrosion
;
_journal_issue                   2
_journal_name_full
;
 Zeitschrift für Elektrochemie und angewandte physikalische Chemie
;
_journal_page_first              72
_journal_page_last               89
_journal_paper_doi               10.1002/bbpc.19430490203
_journal_volume                  49
_journal_year                    1943
_chemical_formula_sum            'Ag Pt3'
_space_group_IT_number           221
_symmetry_space_group_name_Hall  '-P 4 2 3'
_symmetry_space_group_name_H-M   'P m -3 m'
_cell_angle_alpha                90
_cell_angle_beta                 90
_cell_angle_gamma                90
_cell_formula_units_Z            1
_cell_length_a                   3.9
_cell_length_b                   3.9
_cell_length_c                   3.9
_cell_volume                     59.319
_citation_journal_id_ASTM        ZEELAI
_cod_data_source_file            silver1-2_502.cif
_cod_data_source_block           Ag1Pt3
_cod_original_formula_sum        'Ag1 Pt3'
_cod_database_code               1509516
loop_
_symmetry_equiv_pos_as_xyz
x,y,z
-y,x,z
-x,-y,z
y,-x,z
x,-y,-z
y,x,-z
-x,y,-z
-y,-x,-z
z,x,y
-x,z,y
-z,-x,y
x,-z,y
z,-x,-y
x,z,-y
-z,x,-y
-x,-z,-y
y,z,x
y,-z,-x
z,y,-x
-y,z,-x
-z,-y,-x
-y,-z,x
z,-y,x
-z,y,x
-x,-y,-z
y,-x,-z
x,y,-z
-y,x,-z
-x,y,z
-y,-x,z
x,-y,z
y,x,z
-z,-x,-y
x,-z,-y
z,x,-y
-x,z,-y
-z,x,y
-x,-z,y
z,-x,y
x,z,y
-y,-z,-x
-y,z,x
-z,-y,x
y,-z,x
z,y,x
y,z,-x
-z,y,-x
z,-y,-x
loop_
_atom_site_label
_atom_site_type_symbol
_atom_site_fract_x
_atom_site_fract_y
_atom_site_fract_z
_atom_site_occupancy
_atom_site_U_iso_or_equiv
Ag1 Ag 0 0 0 1 0.0
Pt1 Pt 0 0.5 0.5 1 0.0
