#------------------------------------------------------------------------------
#$Date: 2016-02-13 21:28:24 +0200 (Sat, 13 Feb 2016) $
#$Revision: 176429 $
#$URL: svn://www.crystallography.net/cod/cif/1/52/17/1521716.cif $
#------------------------------------------------------------------------------
#
# This file is available in the Crystallography Open Database (COD),
# http://www.crystallography.net/
#
# All data on this site have been placed in the public domain by the
# contributors.
#
data_1521716
loop_
_publ_author_name
'Pagnier, T.'
'Charrier-Cougoulic, I.'
'Ritter, C.'
'Lucazeau, G.'
_publ_section_title
;
 A neutron diffraction study of Ba Cex Zr1-x O3
;
_journal_name_full
'The European Physical Journal Apllied Physics'
_journal_page_first              1
_journal_page_last               9
_journal_volume                  9
_journal_year                    2000
_chemical_formula_sum            'Ba Ce0.8 O3 Zr0.2'
_chemical_name_systematic        'Ba ((Ce0.8 Zr0.2) O3)'
_space_group_IT_number           167
_symmetry_space_group_name_Hall  '-R 3 2"c'
_symmetry_space_group_name_H-M   'R -3 c :H'
_cell_angle_alpha                90
_cell_angle_beta                 90
_cell_angle_gamma                120
_cell_formula_units_Z            6
_cell_length_a                   6.18
_cell_length_b                   6.18
_cell_length_c                   15.0567
_cell_volume                     498.009
_citation_journal_id_ASTM        EPAPFV
_cod_data_source_file            Pagnier_EPAPFV_2000_1102.cif
_cod_data_source_block           Ba1Ce0.8O3Zr0.2
_cod_original_cell_volume        498.0092
_cod_original_formula_sum        'Ba1 Ce0.8 O3 Zr0.2'
_cod_database_code               1521716
loop_
_symmetry_equiv_pos_as_xyz
x,y,z
-y,x-y,z
-x+y,-x,z
y,x,-z+1/2
-x,-x+y,-z+1/2
x-y,-y,-z+1/2
-x,-y,-z
y,-x+y,-z
x-y,x,-z
-y,-x,z-1/2
x,x-y,z-1/2
-x+y,y,z-1/2
x+2/3,y+1/3,z+1/3
-y+2/3,x-y+1/3,z+1/3
-x+y+2/3,-x+1/3,z+1/3
y+2/3,x+1/3,-z+5/6
-x+2/3,-x+y+1/3,-z+5/6
x-y+2/3,-y+1/3,-z+5/6
-x+2/3,-y+1/3,-z+1/3
y+2/3,-x+y+1/3,-z+1/3
x-y+2/3,x+1/3,-z+1/3
-y+2/3,-x+1/3,z-1/6
x+2/3,x-y+1/3,z-1/6
-x+y+2/3,y+1/3,z-1/6
x+1/3,y+2/3,z+2/3
-y+1/3,x-y+2/3,z+2/3
-x+y+1/3,-x+2/3,z+2/3
y+1/3,x+2/3,-z+7/6
-x+1/3,-x+y+2/3,-z+7/6
x-y+1/3,-y+2/3,-z+7/6
-x+1/3,-y+2/3,-z+2/3
y+1/3,-x+y+2/3,-z+2/3
x-y+1/3,x+2/3,-z+2/3
-y+1/3,-x+2/3,z+1/6
x+1/3,x-y+2/3,z+1/6
-x+y+1/3,y+2/3,z+1/6
loop_
_atom_site_label
_atom_site_type_symbol
_atom_site_fract_x
_atom_site_fract_y
_atom_site_fract_z
_atom_site_occupancy
_atom_site_U_iso_or_equiv
Ce1 Ce+4 0 0 0 0.8 0.0
Ba1 Ba+2 0 0 0.25 1 0.0
Zr1 Zr+4 0 0 0 0.2 0.0
O1 O-2 0.4487 0 0.25 1 0.0
