#------------------------------------------------------------------------------
#$Date: 2016-02-13 21:28:24 +0200 (Sat, 13 Feb 2016) $
#$Revision: 176429 $
#$URL: svn://www.crystallography.net/cod/cif/1/52/26/1522678.cif $
#------------------------------------------------------------------------------
#
# This file is available in the Crystallography Open Database (COD),
# http://www.crystallography.net/
#
# All data on this site have been placed in the public domain by the
# contributors.
#
data_1522678
loop_
_publ_author_name
'Pauly, H.'
'Weiss, A.'
'Witte, H.'
_publ_section_title
;
 Phasenbreite und Valenzelektronenkonzentration (VEK) in den ternaeren
 kubischen Zintlphasen vom NaTl-Typ
;
_journal_name_full               'Zeitschrift fuer Metallkunde'
_journal_page_first              554
_journal_page_last               558
_journal_volume                  59
_journal_year                    1968
_chemical_formula_sum            'Hg0.5 Li Tl0.5'
_chemical_name_systematic        '(Hg0.5 Tl0.5) Li'
_space_group_IT_number           221
_symmetry_space_group_name_Hall  '-P 4 2 3'
_symmetry_space_group_name_H-M   'P m -3 m'
_cell_angle_alpha                90
_cell_angle_beta                 90
_cell_angle_gamma                90
_cell_formula_units_Z            1
_cell_length_a                   3.352
_cell_length_b                   3.352
_cell_length_c                   3.352
_cell_volume                     37.663
_citation_journal_id_ASTM        ZEMTAE
_cod_data_source_file            Pauly_ZEMTAE_1968_631.cif
_cod_data_source_block           Hg0.5Li1Tl0.5
_cod_original_cell_volume        37.66275
_cod_original_formula_sum        'Hg0.5 Li1 Tl0.5'
_cod_database_code               1522678
loop_
_symmetry_equiv_pos_as_xyz
x,y,z
-y,x,z
-x,-y,z
y,-x,z
x,-y,-z
y,x,-z
-x,y,-z
-y,-x,-z
z,x,y
-x,z,y
-z,-x,y
x,-z,y
z,-x,-y
x,z,-y
-z,x,-y
-x,-z,-y
y,z,x
y,-z,-x
z,y,-x
-y,z,-x
-z,-y,-x
-y,-z,x
z,-y,x
-z,y,x
-x,-y,-z
y,-x,-z
x,y,-z
-y,x,-z
-x,y,z
-y,-x,z
x,-y,z
y,x,z
-z,-x,-y
x,-z,-y
z,x,-y
-x,z,-y
-z,x,y
-x,-z,y
z,-x,y
x,z,y
-y,-z,-x
-y,z,x
-z,-y,x
y,-z,x
z,y,x
y,z,-x
-z,y,-x
z,-y,-x
loop_
_atom_site_label
_atom_site_type_symbol
_atom_site_fract_x
_atom_site_fract_y
_atom_site_fract_z
_atom_site_occupancy
_atom_site_U_iso_or_equiv
Tl1 Tl 0 0 0 0.5 0.0
Hg1 Hg 0 0 0 0.5 0.0
Li1 Li 0.5 0.5 0.5 1 0.0
