#------------------------------------------------------------------------------
#$Date: 2018-09-27 07:13:35 +0300 (Thu, 27 Sep 2018) $
#$Revision: 211196 $
#$URL: file:///home/coder/svn-repositories/cod/cif/1/52/28/1522849.cif $
#------------------------------------------------------------------------------
#
# This file is available in the Crystallography Open Database (COD),
# http://www.crystallography.net/
#
# All data on this site have been placed in the public domain by the
# contributors.
#
data_1522849
loop_
_publ_author_name
'Schubert, K.'
'Burkhardt, W.'
'Breimer, H.'
'Guenzel, E.'
'Haufler, R.'
'Wegst, J.'
'Vetter, H.'
'Lukas, H.L.'
'Wilkens, M.'
_publ_section_title
;
 Einige strukturelle Ergebnisse an metallischen Phasen. II.
;
_journal_name_full               Naturwissenschaften
_journal_page_first              229
_journal_page_last               230
_journal_volume                  44
_journal_year                    1957
_chemical_formula_sum            'Pd3 Sn'
_space_group_IT_number           123
_symmetry_space_group_name_Hall  '-P 4 2'
_symmetry_space_group_name_H-M   'P 4/m m m'
_cell_angle_alpha                90
_cell_angle_beta                 90
_cell_angle_gamma                90
_cell_formula_units_Z            1
_cell_length_a                   4.07
_cell_length_b                   4.07
_cell_length_c                   3.72
_cell_volume                     61.621
_citation_journal_id_ASTM        NATWAY
_cod_data_source_file            Schubert_NATWAY_1957_1754.cif
_cod_data_source_block           Pd3Sn1
_cod_original_cell_volume        61.62143
_cod_original_formula_sum        'Pd3 Sn1'
_cod_database_code               1522849
loop_
_symmetry_equiv_pos_as_xyz
x,y,z
-y,x,z
-x,-y,z
y,-x,z
x,-y,-z
y,x,-z
-x,y,-z
-y,-x,-z
-x,-y,-z
y,-x,-z
x,y,-z
-y,x,-z
-x,y,z
-y,-x,z
x,-y,z
y,x,z
loop_
_atom_site_label
_atom_site_type_symbol
_atom_site_fract_x
_atom_site_fract_y
_atom_site_fract_z
_atom_site_occupancy
_atom_site_U_iso_or_equiv
Pd2 Pd 0 0.5 0.5 1 0.0
Sn1 Sn 0 0 0 1 0.0
Pd1 Pd 0.5 0.5 0 1 0.0
