#------------------------------------------------------------------------------
#$Date: 2018-09-27 07:13:35 +0300 (Thu, 27 Sep 2018) $
#$Revision: 211196 $
#$URL: file:///home/coder/svn-repositories/cod/cif/1/52/28/1522855.cif $
#------------------------------------------------------------------------------
#
# This file is available in the Crystallography Open Database (COD),
# http://www.crystallography.net/
#
# All data on this site have been placed in the public domain by the
# contributors.
#
data_1522855
loop_
_publ_author_name
'Schubert, K.'
'Biswas, T.K.'
'Bhan, S.'
'Panday, P.K.'
'Frank, K.'
_publ_section_title
;
 Einige Strukturdaten metallischer Phasen. 13. Mitteilung
;
_journal_name_full               Naturwissenschaften
_journal_page_first              542
_journal_page_last               543
_journal_volume                  55
_journal_year                    1968
_chemical_formula_sum            'Pb Pd9 Tl2'
_space_group_IT_number           139
_symmetry_space_group_name_Hall  '-I 4 2'
_symmetry_space_group_name_H-M   'I 4/m m m'
_cell_angle_alpha                90
_cell_angle_beta                 90
_cell_angle_gamma                90
_cell_formula_units_Z            2
_cell_length_a                   4.072
_cell_length_b                   4.072
_cell_length_c                   23.304
_cell_volume                     386.408
_citation_journal_id_ASTM        NATWAY
_cod_data_source_file            Schubert_NATWAY_1968_1678.cif
_cod_data_source_block           Pb1Pd9Tl2
_cod_original_cell_volume        386.4079
_cod_original_formula_sum        'Pb1 Pd9 Tl2'
_cod_database_code               1522855
loop_
_symmetry_equiv_pos_as_xyz
x,y,z
-y,x,z
-x,-y,z
y,-x,z
x,-y,-z
y,x,-z
-x,y,-z
-y,-x,-z
-x,-y,-z
y,-x,-z
x,y,-z
-y,x,-z
-x,y,z
-y,-x,z
x,-y,z
y,x,z
x+1/2,y+1/2,z+1/2
-y+1/2,x+1/2,z+1/2
-x+1/2,-y+1/2,z+1/2
y+1/2,-x+1/2,z+1/2
x+1/2,-y+1/2,-z+1/2
y+1/2,x+1/2,-z+1/2
-x+1/2,y+1/2,-z+1/2
-y+1/2,-x+1/2,-z+1/2
-x+1/2,-y+1/2,-z+1/2
y+1/2,-x+1/2,-z+1/2
x+1/2,y+1/2,-z+1/2
-y+1/2,x+1/2,-z+1/2
-x+1/2,y+1/2,z+1/2
-y+1/2,-x+1/2,z+1/2
x+1/2,-y+1/2,z+1/2
y+1/2,x+1/2,z+1/2
loop_
_atom_site_label
_atom_site_type_symbol
_atom_site_fract_x
_atom_site_fract_y
_atom_site_fract_z
_atom_site_occupancy
_atom_site_U_iso_or_equiv
Tl1 Tl 0 0 0 0.667 0.0
Pd1 Pd 0 0 0.5 1 0.0
Pd3 Pd 0 0 0.67 1 0.0
Pb1 Pb 0 0 0 0.333 0.0
Pb2 Pb 0 0 0.16 0.333 0.0
Pd4 Pd 0 0.5 0.08 1 0.0
Tl2 Tl 0 0 0.16 0.667 0.0
Pd2 Pd 0 0.5 0.25 1 0.0
