#------------------------------------------------------------------------------
#$Date: 2015-07-10 23:59:23 +0300 (Fri, 10 Jul 2015) $
#$Revision: 143443 $
#$URL: svn://www.crystallography.net/cod/cif/1/52/30/1523058.cif $
#------------------------------------------------------------------------------
#
# This file is available in the Crystallography Open Database (COD),
# http://www.crystallography.net/
#
# All data on this site have been placed in the public domain by the
# contributors.
#
data_1523058
loop_
_publ_author_name
'Wang, R.'
_publ_section_title
;
 Formation of metastable low-temperature allotropic solid solutions in
 rare-earth-zirconium systems
;
_journal_name_full               'Metallurgical Transactions'
_journal_page_first              1213
_journal_page_last               1221
_journal_volume                  3
_journal_year                    1972
_chemical_formula_sum            'Gd0.1 Zr0.9'
_chemical_name_systematic        '(Gd0.1 Zr0.9)'
_space_group_IT_number           194
_symmetry_space_group_name_Hall  '-P 6c 2c'
_symmetry_space_group_name_H-M   'P 63/m m c'
_cell_angle_alpha                90
_cell_angle_beta                 90
_cell_angle_gamma                120
_cell_formula_units_Z            2
_cell_length_a                   3.225
_cell_length_b                   3.225
_cell_length_c                   5.19
_cell_volume                     46.747
_citation_journal_id_ASTM        MTGTBF
_cod_data_source_file            Wang_MTGTBF_1972_506.cif
_cod_data_source_block           Gd0.1Zr0.9
_cod_original_cell_volume        46.74739
_cod_database_code               1523058
loop_
_symmetry_equiv_pos_as_xyz
x,y,z
x-y,x,z+1/2
-y,x-y,z
-x,-y,z+1/2
-x+y,-x,z
y,-x+y,z+1/2
-y,-x,-z+1/2
x-y,-y,-z
x,x-y,-z+1/2
y,x,-z
-x+y,y,-z+1/2
-x,-x+y,-z
-x,-y,-z
-x+y,-x,-z-1/2
y,-x+y,-z
x,y,-z-1/2
x-y,x,-z
-y,x-y,-z-1/2
y,x,z-1/2
-x+y,y,z
-x,-x+y,z-1/2
-y,-x,z
x-y,-y,z-1/2
x,x-y,z
loop_
_atom_site_label
_atom_site_type_symbol
_atom_site_fract_x
_atom_site_fract_y
_atom_site_fract_z
_atom_site_occupancy
_atom_site_U_iso_or_equiv
Zr1 Zr 0.3333 0.6667 0.25 0.9 0.0
Gd1 Gd 0.3333 0.6667 0.25 0.1 0.0
