#------------------------------------------------------------------------------
#$Date: 2015-07-11 02:49:44 +0300 (Sat, 11 Jul 2015) $
#$Revision: 143816 $
#$URL: svn://www.crystallography.net/cod/cif/1/52/32/1523202.cif $
#------------------------------------------------------------------------------
#
# This file is available in the Crystallography Open Database (COD),
# http://www.crystallography.net/
#
# All data on this site have been placed in the public domain by the
# contributors.
#
data_1523202
loop_
_publ_author_name
'Badaeva, T.A.'
'Kuznetsova, R.I.'
_publ_section_title
;
 Nature of the interactions between thorium and rare-earth metals
;
_journal_name_full               'Izvestiya Akademii Nauk SSSR, Metally'
_journal_page_first              156
_journal_page_last               163
_journal_volume                  1969
_journal_year                    1969
_chemical_formula_sum            'Lu0.8 Th0.2'
_chemical_name_systematic        '(Lu0.8 Th0.2)'
_space_group_IT_number           194
_symmetry_space_group_name_Hall  '-P 6c 2c'
_symmetry_space_group_name_H-M   'P 63/m m c'
_cell_angle_alpha                90
_cell_angle_beta                 90
_cell_angle_gamma                120
_cell_formula_units_Z            2
_cell_length_a                   3.541
_cell_length_b                   3.541
_cell_length_c                   5.616
_cell_volume                     60.983
_citation_journal_id_ASTM        IZNMAQ
_cod_data_source_file            Badaeva_IZNMAQ_1969_1049.cif
_cod_data_source_block           Lu0.8Th0.2
_cod_original_cell_volume        60.98311
_cod_database_code               1523202
loop_
_symmetry_equiv_pos_as_xyz
x,y,z
x-y,x,z+1/2
-y,x-y,z
-x,-y,z+1/2
-x+y,-x,z
y,-x+y,z+1/2
-y,-x,-z+1/2
x-y,-y,-z
x,x-y,-z+1/2
y,x,-z
-x+y,y,-z+1/2
-x,-x+y,-z
-x,-y,-z
-x+y,-x,-z-1/2
y,-x+y,-z
x,y,-z-1/2
x-y,x,-z
-y,x-y,-z-1/2
y,x,z-1/2
-x+y,y,z
-x,-x+y,z-1/2
-y,-x,z
x-y,-y,z-1/2
x,x-y,z
loop_
_atom_site_label
_atom_site_type_symbol
_atom_site_fract_x
_atom_site_fract_y
_atom_site_fract_z
_atom_site_occupancy
_atom_site_U_iso_or_equiv
Th1 Th 0.3333 0.6667 0.25 0.2 0.0
Lu1 Lu 0.3333 0.6667 0.25 0.8 0.0
