#------------------------------------------------------------------------------
#$Date: 2018-09-27 07:13:35 +0300 (Thu, 27 Sep 2018) $
#$Revision: 211196 $
#$URL: file:///home/coder/svn-repositories/cod/cif/1/52/32/1523238.cif $
#------------------------------------------------------------------------------
#
# This file is available in the Crystallography Open Database (COD),
# http://www.crystallography.net/
#
# All data on this site have been placed in the public domain by the
# contributors.
#
data_1523238
loop_
_publ_author_name
'Belyavina, N.N.'
'Shevchenko, I.P.'
'Suprunenko, P.A.'
'Markiv, V.Ya.'
_publ_section_title
;
 Magnetic and X-ray diffraction investigations of the (Zr, Ti)5 Ga3, (Hf,
 Ti)5 Ga3 and (Hf, Nb)5 Ga3 solid solutions
;
_journal_name_full               Metallofizkika
_journal_page_first              105
_journal_page_last               108
_journal_volume                  4
_journal_year                    1982
_chemical_formula_sum            'Ga3 Ti2 Zr3'
_space_group_IT_number           193
_symmetry_space_group_name_Hall  '-P 6c 2'
_symmetry_space_group_name_H-M   'P 63/m c m'
_cell_angle_alpha                90
_cell_angle_beta                 90
_cell_angle_gamma                120
_cell_formula_units_Z            2
_cell_length_a                   7.954
_cell_length_b                   7.954
_cell_length_c                   5.532
_cell_volume                     303.099
_citation_journal_id_ASTM        MANFDD
_cod_data_source_file            Belyavina_MANFDD_1982_388.cif
_cod_data_source_block           Ga3Ti2Zr3
_cod_original_cell_volume        303.0986
_cod_database_code               1523238
loop_
_symmetry_equiv_pos_as_xyz
x,y,z
x-y,x,z+1/2
-y,x-y,z
-x,-y,z+1/2
-x+y,-x,z
y,-x+y,z+1/2
-y,-x,-z
x-y,-y,-z+1/2
x,x-y,-z
y,x,-z+1/2
-x+y,y,-z
-x,-x+y,-z+1/2
-x,-y,-z
-x+y,-x,-z-1/2
y,-x+y,-z
x,y,-z-1/2
x-y,x,-z
-y,x-y,-z-1/2
y,x,z
-x+y,y,z-1/2
-x,-x+y,z
-y,-x,z-1/2
x-y,-y,z
x,x-y,z-1/2
loop_
_atom_site_label
_atom_site_type_symbol
_atom_site_fract_x
_atom_site_fract_y
_atom_site_fract_z
_atom_site_occupancy
_atom_site_U_iso_or_equiv
Ti1 Ti 0.3333 0.6667 0 1 0.0
Zr1 Zr 0.239 0 0.25 1 0.0
Ga1 Ga 0.61 0 0.25 1 0.0
