#------------------------------------------------------------------------------
#$Date: 2018-09-27 07:13:35 +0300 (Thu, 27 Sep 2018) $
#$Revision: 211196 $
#$URL: file:///home/coder/svn-repositories/cod/cif/1/52/32/1523254.cif $
#------------------------------------------------------------------------------
#
# This file is available in the Crystallography Open Database (COD),
# http://www.crystallography.net/
#
# All data on this site have been placed in the public domain by the
# contributors.
#
data_1523254
loop_
_publ_author_name
'Bhan, S.'
'Kudielka, H.'
_publ_section_title
;
 Ordered bcc-phase at high temperatures in alloys of transition metals and
 B-subgroup elements
;
_journal_name_full               'Zeitschrift fuer Metallkunde'
_journal_page_first              333
_journal_page_last               336
_journal_volume                  69
_journal_year                    1978
_chemical_formula_sum            'Ga0.9 Pd1.1'
_space_group_IT_number           221
_symmetry_space_group_name_Hall  '-P 4 2 3'
_symmetry_space_group_name_H-M   'P m -3 m'
_cell_angle_alpha                90
_cell_angle_beta                 90
_cell_angle_gamma                90
_cell_formula_units_Z            1
_cell_length_a                   3.1283
_cell_length_b                   3.1283
_cell_length_c                   3.1283
_cell_volume                     30.614
_citation_journal_id_ASTM        ZEMTAE
_cod_data_source_file            Bhan_ZEMTAE_1978_302.cif
_cod_data_source_block           Ga0.9Pd1.1
_cod_original_cell_volume        30.61436
_cod_database_code               1523254
loop_
_symmetry_equiv_pos_as_xyz
x,y,z
-y,x,z
-x,-y,z
y,-x,z
x,-y,-z
y,x,-z
-x,y,-z
-y,-x,-z
z,x,y
-x,z,y
-z,-x,y
x,-z,y
z,-x,-y
x,z,-y
-z,x,-y
-x,-z,-y
y,z,x
y,-z,-x
z,y,-x
-y,z,-x
-z,-y,-x
-y,-z,x
z,-y,x
-z,y,x
-x,-y,-z
y,-x,-z
x,y,-z
-y,x,-z
-x,y,z
-y,-x,z
x,-y,z
y,x,z
-z,-x,-y
x,-z,-y
z,x,-y
-x,z,-y
-z,x,y
-x,-z,y
z,-x,y
x,z,y
-y,-z,-x
-y,z,x
-z,-y,x
y,-z,x
z,y,x
y,z,-x
-z,y,-x
z,-y,-x
loop_
_atom_site_label
_atom_site_type_symbol
_atom_site_fract_x
_atom_site_fract_y
_atom_site_fract_z
_atom_site_occupancy
_atom_site_U_iso_or_equiv
Pd2 Pd 0.5 0.5 0.5 1 0.0
Ga1 Ga 0 0 0 0.9 0.0
Pd1 Pd 0 0 0 0.1 0.0
