#------------------------------------------------------------------------------
#$Date: 2016-02-13 21:28:24 +0200 (Sat, 13 Feb 2016) $
#$Revision: 176429 $
#$URL: svn://www.crystallography.net/cod/cif/1/52/36/1523649.cif $
#------------------------------------------------------------------------------
#
# This file is available in the Crystallography Open Database (COD),
# http://www.crystallography.net/
#
# All data on this site have been placed in the public domain by the
# contributors.
#
data_1523649
loop_
_publ_author_name
'Gadalla, A.A.'
'Schubert, K.'
_publ_section_title
;
 Zur Konstitution der Mischung Ni-Pt-Ga
;
_journal_name_full               'Zeitschrift fuer Metallkunde'
_journal_page_first              307
_journal_page_last               310
_journal_volume                  66
_journal_year                    1975
_chemical_formula_sum            'Ga Ni2.01 Pt0.99'
_chemical_name_systematic        'Ga (Ni.67 Pt.33)3'
_space_group_IT_number           221
_symmetry_space_group_name_Hall  '-P 4 2 3'
_symmetry_space_group_name_H-M   'P m -3 m'
_cell_angle_alpha                90
_cell_angle_beta                 90
_cell_angle_gamma                90
_cell_formula_units_Z            1
_cell_length_a                   3.715
_cell_length_b                   3.715
_cell_length_c                   3.715
_cell_volume                     51.272
_citation_journal_id_ASTM        ZEMTAE
_cod_data_source_file            Gadalla_ZEMTAE_1975_271.cif
_cod_data_source_block           Ga1Ni2.01Pt0.99
_cod_original_cell_volume        51.27155
_cod_original_formula_sum        'Ga1 Ni2.01 Pt0.99'
_cod_database_code               1523649
loop_
_symmetry_equiv_pos_as_xyz
x,y,z
-y,x,z
-x,-y,z
y,-x,z
x,-y,-z
y,x,-z
-x,y,-z
-y,-x,-z
z,x,y
-x,z,y
-z,-x,y
x,-z,y
z,-x,-y
x,z,-y
-z,x,-y
-x,-z,-y
y,z,x
y,-z,-x
z,y,-x
-y,z,-x
-z,-y,-x
-y,-z,x
z,-y,x
-z,y,x
-x,-y,-z
y,-x,-z
x,y,-z
-y,x,-z
-x,y,z
-y,-x,z
x,-y,z
y,x,z
-z,-x,-y
x,-z,-y
z,x,-y
-x,z,-y
-z,x,y
-x,-z,y
z,-x,y
x,z,y
-y,-z,-x
-y,z,x
-z,-y,x
y,-z,x
z,y,x
y,z,-x
-z,y,-x
z,-y,-x
loop_
_atom_site_label
_atom_site_type_symbol
_atom_site_fract_x
_atom_site_fract_y
_atom_site_fract_z
_atom_site_occupancy
_atom_site_U_iso_or_equiv
Ga1 Ga 0 0 0 1 0.0
Ni1 Ni 0 0.5 0.5 0.67 0.0
Pt1 Pt 0 0.5 0.5 0.33 0.0
