#------------------------------------------------------------------------------
#$Date: 2016-02-13 21:28:24 +0200 (Sat, 13 Feb 2016) $
#$Revision: 176429 $
#$URL: svn://www.crystallography.net/cod/cif/1/52/37/1523735.cif $
#------------------------------------------------------------------------------
#
# This file is available in the Crystallography Open Database (COD),
# http://www.crystallography.net/
#
# All data on this site have been placed in the public domain by the
# contributors.
#
data_1523735
loop_
_publ_author_name
'Grin', Yu.'
'Yarmolyuk, Ya.P.'
'Pecharskii, V.K.'
_publ_section_title
;
 Composition and structure of R Gax Ni5-x phases in rare-earth
 metals-Ga-Ni systems
;
_journal_name_full               'Izvestiya Akademii Nauk SSSR, Metally'
_journal_page_first              213
_journal_page_last               218
_journal_volume                  1983
_journal_year                    1983
_chemical_formula_sum            'Ga1.6 Ho Ni3.4'
_chemical_name_systematic        '(Ga0.32 Ni0.68)5 Ho'
_space_group_IT_number           191
_symmetry_space_group_name_Hall  '-P 6 2'
_symmetry_space_group_name_H-M   'P 6/m m m'
_cell_angle_alpha                90
_cell_angle_beta                 90
_cell_angle_gamma                120
_cell_formula_units_Z            1
_cell_length_a                   4.967
_cell_length_b                   4.967
_cell_length_c                   4.056
_cell_volume                     86.660
_citation_journal_id_ASTM        IZNMAQ
_cod_data_source_file            Grin_IZNMAQ_1983_171.cif
_cod_data_source_block           Ga1.6Ho1Ni3.4
_cod_original_cell_volume        86.65965
_cod_original_formula_sum        'Ga1.6 Ho1 Ni3.4'
_cod_database_code               1523735
loop_
_symmetry_equiv_pos_as_xyz
x,y,z
x-y,x,z
-y,x-y,z
-x,-y,z
-x+y,-x,z
y,-x+y,z
-y,-x,-z
x-y,-y,-z
x,x-y,-z
y,x,-z
-x+y,y,-z
-x,-x+y,-z
-x,-y,-z
-x+y,-x,-z
y,-x+y,-z
x,y,-z
x-y,x,-z
-y,x-y,-z
y,x,z
-x+y,y,z
-x,-x+y,z
-y,-x,z
x-y,-y,z
x,x-y,z
loop_
_atom_site_label
_atom_site_type_symbol
_atom_site_fract_x
_atom_site_fract_y
_atom_site_fract_z
_atom_site_occupancy
_atom_site_U_iso_or_equiv
Ga1 Ga 0.3333 0.6667 0 0.32 0.0
Ni2 Ni 0.5 0 0.5 0.68 0.0
Ni1 Ni 0.3333 0.6667 0 0.68 0.0
Ga2 Ga 0.5 0 0.5 0.32 0.0
Ho1 Ho 0 0 0 1 0.0
