#------------------------------------------------------------------------------
#$Date: 2016-02-13 21:28:24 +0200 (Sat, 13 Feb 2016) $
#$Revision: 176429 $
#$URL: svn://www.crystallography.net/cod/cif/1/52/39/1523997.cif $
#------------------------------------------------------------------------------
#
# This file is available in the Crystallography Open Database (COD),
# http://www.crystallography.net/
#
# All data on this site have been placed in the public domain by the
# contributors.
#
data_1523997
loop_
_publ_author_name
'Atoji, M.'
'Atoji, I.'
'Wallace, W.E.'
'Do-Dinh, C.'
_publ_section_title
;
 Neutron diffraction studies ot Th Ni2 Co3 and Th Ni3 Co2 at 5-297 K
;
_journal_name_full               'Journal of Applied Physics'
_journal_page_first              5096
_journal_page_last               5099
_journal_volume                  44
_journal_year                    1973
_chemical_formula_sum            'Co3 Ni2 Th'
_chemical_name_systematic        '(Co3 Ni2) Th'
_space_group_IT_number           191
_symmetry_space_group_name_Hall  '-P 6 2'
_symmetry_space_group_name_H-M   'P 6/m m m'
_cell_angle_alpha                90
_cell_angle_beta                 90
_cell_angle_gamma                120
_cell_formula_units_Z            1
_cell_length_a                   4.956
_cell_length_b                   4.956
_cell_length_c                   3.993
_cell_volume                     84.936
_citation_journal_id_ASTM        JAPIAU
_cod_data_source_file            Atoji_JAPIAU_1973_1161.cif
_cod_data_source_block           Co3Ni2Th1
_cod_original_cell_volume        84.93614
_cod_original_formula_sum        'Co3 Ni2 Th1'
_cod_database_code               1523997
loop_
_symmetry_equiv_pos_as_xyz
x,y,z
x-y,x,z
-y,x-y,z
-x,-y,z
-x+y,-x,z
y,-x+y,z
-y,-x,-z
x-y,-y,-z
x,x-y,-z
y,x,-z
-x+y,y,-z
-x,-x+y,-z
-x,-y,-z
-x+y,-x,-z
y,-x+y,-z
x,y,-z
x-y,x,-z
-y,x-y,-z
y,x,z
-x+y,y,z
-x,-x+y,z
-y,-x,z
x-y,-y,z
x,x-y,z
loop_
_atom_site_label
_atom_site_type_symbol
_atom_site_fract_x
_atom_site_fract_y
_atom_site_fract_z
_atom_site_occupancy
_atom_site_U_iso_or_equiv
Co2 Co 0.5 0 0.5 0.7 0.0
Th1 Th 0 0 0 1 0.0
Ni2 Ni 0.5 0 0.5 0.3 0.0
Ni1 Ni 0.3333 0.6667 0 0.55 0.0
Co1 Co 0.3333 0.6667 0 0.45 0.0
