#------------------------------------------------------------------------------
#$Date: 2018-09-27 07:13:35 +0300 (Thu, 27 Sep 2018) $
#$Revision: 211196 $
#$URL: file:///home/coder/svn-repositories/cod/cif/1/52/40/1524015.cif $
#------------------------------------------------------------------------------
#
# This file is available in the Crystallography Open Database (COD),
# http://www.crystallography.net/
#
# All data on this site have been placed in the public domain by the
# contributors.
#
data_1524015
loop_
_publ_author_name
'Barandiaran, J.M.'
'Gignoux, D.'
'Rodriguez Fernandez, J.'
'Schmitt, D.'
_publ_section_title
;
 Magnetic properties and magnetic structure of hexagonal Cu-rich rare
 earth-copper compounds
;
_journal_name_full               'Physik (Berlin)'
_journal_page_first              293
_journal_page_last               299
_journal_volume                  154
_journal_year                    1989
_chemical_formula_sum            'Cu5 Gd'
_space_group_IT_number           191
_symmetry_space_group_name_Hall  '-P 6 2'
_symmetry_space_group_name_H-M   'P 6/m m m'
_cell_angle_alpha                90
_cell_angle_beta                 90
_cell_angle_gamma                120
_cell_formula_units_Z            1
_cell_length_a                   5.01
_cell_length_b                   5.01
_cell_length_c                   4.12
_cell_volume                     89.558
_citation_journal_id_ASTM        PHYBE3
_cod_data_source_file            Barandiaran_PHYBE3_1989_1471.cif
_cod_data_source_block           Cu5Gd1
_cod_original_cell_volume        89.55779
_cod_original_formula_sum        'Cu5 Gd1'
_cod_database_code               1524015
loop_
_symmetry_equiv_pos_as_xyz
x,y,z
x-y,x,z
-y,x-y,z
-x,-y,z
-x+y,-x,z
y,-x+y,z
-y,-x,-z
x-y,-y,-z
x,x-y,-z
y,x,-z
-x+y,y,-z
-x,-x+y,-z
-x,-y,-z
-x+y,-x,-z
y,-x+y,-z
x,y,-z
x-y,x,-z
-y,x-y,-z
y,x,z
-x+y,y,z
-x,-x+y,z
-y,-x,z
x-y,-y,z
x,x-y,z
loop_
_atom_site_label
_atom_site_type_symbol
_atom_site_fract_x
_atom_site_fract_y
_atom_site_fract_z
_atom_site_occupancy
_atom_site_U_iso_or_equiv
Cu2 Cu 0.5 0 0.5 1 0.0
Cu1 Cu 0.3333 0.6667 0 1 0.0
Gd1 Gd 0 0 0 1 0.0
