#------------------------------------------------------------------------------
#$Date: 2016-02-13 21:28:24 +0200 (Sat, 13 Feb 2016) $
#$Revision: 176429 $
#$URL: svn://www.crystallography.net/cod/cif/1/52/40/1524055.cif $
#------------------------------------------------------------------------------
#
# This file is available in the Crystallography Open Database (COD),
# http://www.crystallography.net/
#
# All data on this site have been placed in the public domain by the
# contributors.
#
data_1524055
loop_
_publ_author_name
'Beaurepaire, E.'
'Kappler, J.P.'
'Krill, G.'
'Roehler, J.'
_publ_section_title
;
 4f ground state properties of cerium in Au Cu3 intermetallic compounds
 studied by X-ray absorption spectroscopy
;
_journal_name_full               'Solid State Communications'
_journal_page_first              65
_journal_page_last               69
_journal_volume                  49
_journal_year                    1984
_chemical_formula_sum            'Ce Pd1.2 Rh1.8'
_chemical_name_systematic        'Ce (Pd0.4 Rh0.6)3'
_space_group_IT_number           221
_symmetry_space_group_name_Hall  '-P 4 2 3'
_symmetry_space_group_name_H-M   'P m -3 m'
_cell_angle_alpha                90
_cell_angle_beta                 90
_cell_angle_gamma                90
_cell_formula_units_Z            1
_cell_length_a                   4.053
_cell_length_b                   4.053
_cell_length_c                   4.053
_cell_volume                     66.578
_citation_journal_id_ASTM        SSCOA4
_cod_data_source_file            Beaurepaire_SSCOA4_1984_863.cif
_cod_data_source_block           Ce1Pd1.2Rh1.8
_cod_original_cell_volume        66.57786
_cod_original_formula_sum        'Ce1 Pd1.2 Rh1.8'
_cod_database_code               1524055
loop_
_symmetry_equiv_pos_as_xyz
x,y,z
-y,x,z
-x,-y,z
y,-x,z
x,-y,-z
y,x,-z
-x,y,-z
-y,-x,-z
z,x,y
-x,z,y
-z,-x,y
x,-z,y
z,-x,-y
x,z,-y
-z,x,-y
-x,-z,-y
y,z,x
y,-z,-x
z,y,-x
-y,z,-x
-z,-y,-x
-y,-z,x
z,-y,x
-z,y,x
-x,-y,-z
y,-x,-z
x,y,-z
-y,x,-z
-x,y,z
-y,-x,z
x,-y,z
y,x,z
-z,-x,-y
x,-z,-y
z,x,-y
-x,z,-y
-z,x,y
-x,-z,y
z,-x,y
x,z,y
-y,-z,-x
-y,z,x
-z,-y,x
y,-z,x
z,y,x
y,z,-x
-z,y,-x
z,-y,-x
loop_
_atom_site_label
_atom_site_type_symbol
_atom_site_fract_x
_atom_site_fract_y
_atom_site_fract_z
_atom_site_occupancy
_atom_site_U_iso_or_equiv
Ce1 Ce 0 0 0 1 0.0
Rh1 Rh 0 0.5 0.5 0.6 0.0
Pd1 Pd 0 0.5 0.5 0.4 0.0
