#------------------------------------------------------------------------------
#$Date: 2018-09-27 07:13:35 +0300 (Thu, 27 Sep 2018) $
#$Revision: 211196 $
#$URL: file:///home/coder/svn-repositories/cod/cif/1/52/47/1524773.cif $
#------------------------------------------------------------------------------
#
# This file is available in the Crystallography Open Database (COD),
# http://www.crystallography.net/
#
# All data on this site have been placed in the public domain by the
# contributors.
#
data_1524773
loop_
_publ_author_name
'Kuz'ma, Yu.B.'
'Uhryn, N.S.'
_publ_section_title
;
 Crystal structures of some compounds of rare earth metals with cadmium
;
_journal_name_full               'Dopovidi Akademii Nauk Ukrains'koi RSR'
_journal_page_first              1025
_journal_page_last               1027
_journal_volume                  1966
_journal_year                    1966
_chemical_formula_sum            'Cd2 Tb'
_space_group_IT_number           191
_symmetry_space_group_name_Hall  '-P 6 2'
_symmetry_space_group_name_H-M   'P 6/m m m'
_cell_angle_alpha                90
_cell_angle_beta                 90
_cell_angle_gamma                120
_cell_formula_units_Z            1
_cell_length_a                   4.905
_cell_length_b                   4.905
_cell_length_c                   3.45
_cell_volume                     71.883
_citation_journal_id_ASTM        DUKRA4
_cod_data_source_file            Kuzma_DUKRA4_1966_700.cif
_cod_data_source_block           Cd2Tb1
_cod_original_cell_volume        71.88326
_cod_original_formula_sum        'Cd2 Tb1'
_cod_database_code               1524773
loop_
_symmetry_equiv_pos_as_xyz
x,y,z
x-y,x,z
-y,x-y,z
-x,-y,z
-x+y,-x,z
y,-x+y,z
-y,-x,-z
x-y,-y,-z
x,x-y,-z
y,x,-z
-x+y,y,-z
-x,-x+y,-z
-x,-y,-z
-x+y,-x,-z
y,-x+y,-z
x,y,-z
x-y,x,-z
-y,x-y,-z
y,x,z
-x+y,y,z
-x,-x+y,z
-y,-x,z
x-y,-y,z
x,x-y,z
loop_
_atom_site_label
_atom_site_type_symbol
_atom_site_fract_x
_atom_site_fract_y
_atom_site_fract_z
_atom_site_occupancy
_atom_site_U_iso_or_equiv
Tb1 Tb 0 0 0 1 0.0
Cd1 Cd 0.3333 0.6667 0.5 1 0.0
