#------------------------------------------------------------------------------
#$Date: 2018-09-27 07:13:35 +0300 (Thu, 27 Sep 2018) $
#$Revision: 211196 $
#$URL: file:///home/coder/svn-repositories/cod/cif/1/52/48/1524812.cif $
#------------------------------------------------------------------------------
#
# This file is available in the Crystallography Open Database (COD),
# http://www.crystallography.net/
#
# All data on this site have been placed in the public domain by the
# contributors.
#
data_1524812
loop_
_publ_author_name
'Lihl, F.'
'Ehols, J.R.'
'Wollf, H.D.'
'Kirchmayr, H.R.'
_publ_section_title
;
 Untersuchungen in den Systemen Sm-Co und Gd-Co
;
_journal_name_full               'Acta Physica Austriaca'
_journal_page_first              164
_journal_page_last               175
_journal_volume                  30
_journal_year                    1969
_chemical_formula_sum            'Co5 Gd'
_space_group_IT_number           191
_symmetry_space_group_name_Hall  '-P 6 2'
_symmetry_space_group_name_H-M   'P 6/m m m'
_cell_angle_alpha                90
_cell_angle_beta                 90
_cell_angle_gamma                120
_cell_formula_units_Z            1
_cell_length_a                   4.96
_cell_length_b                   4.96
_cell_length_c                   3.989
_cell_volume                     84.988
_citation_journal_id_ASTM        APASAP
_cod_data_source_file            Lihl_APASAP_1969_1044.cif
_cod_data_source_block           Co5Gd1
_cod_original_cell_volume        84.98808
_cod_original_formula_sum        'Co5 Gd1'
_cod_database_code               1524812
loop_
_symmetry_equiv_pos_as_xyz
x,y,z
x-y,x,z
-y,x-y,z
-x,-y,z
-x+y,-x,z
y,-x+y,z
-y,-x,-z
x-y,-y,-z
x,x-y,-z
y,x,-z
-x+y,y,-z
-x,-x+y,-z
-x,-y,-z
-x+y,-x,-z
y,-x+y,-z
x,y,-z
x-y,x,-z
-y,x-y,-z
y,x,z
-x+y,y,z
-x,-x+y,z
-y,-x,z
x-y,-y,z
x,x-y,z
loop_
_atom_site_label
_atom_site_type_symbol
_atom_site_fract_x
_atom_site_fract_y
_atom_site_fract_z
_atom_site_occupancy
_atom_site_U_iso_or_equiv
Co2 Co 0.5 0 0.5 1 0.0
Co1 Co 0.3333 0.6667 0 1 0.0
Gd1 Gd 0 0 0 1 0.0
