#------------------------------------------------------------------------------
#$Date: 2015-07-11 21:59:44 +0300 (Sat, 11 Jul 2015) $
#$Revision: 145659 $
#$URL: svn://www.crystallography.net/cod/cif/1/52/48/1524813.cif $
#------------------------------------------------------------------------------
#
# This file is available in the Crystallography Open Database (COD),
# http://www.crystallography.net/
#
# All data on this site have been placed in the public domain by the
# contributors.
#
data_1524813
loop_
_publ_author_name
'Liu, Y.'
'Takasugi, T.'
'Izumi, O.'
_publ_section_title
;
 Alloying behavior of Co3 Ti
;
_journal_name_full
;
Metallurgical Transactions A: Physical Metallurgy and Materials Science
;
_journal_page_first              1433
_journal_page_last               1439
_journal_volume                  17
_journal_year                    1986
_chemical_formula_sum            'Co3 Ta0.17 Ti0.83'
_chemical_name_systematic        'Co3 (Ta0.17 Ti0.83)'
_space_group_IT_number           221
_symmetry_space_group_name_Hall  '-P 4 2 3'
_symmetry_space_group_name_H-M   'P m -3 m'
_cell_angle_alpha                90
_cell_angle_beta                 90
_cell_angle_gamma                90
_cell_formula_units_Z            1
_cell_length_a                   3.6119
_cell_length_b                   3.6119
_cell_length_c                   3.6119
_cell_volume                     47.120
_citation_journal_id_ASTM        MTTABN
_cod_data_source_file            Liu_MTTABN_1986_1241.cif
_cod_data_source_block           Co3Ta0.17Ti0.83
_cod_original_cell_volume        47.1202
_cod_database_code               1524813
loop_
_symmetry_equiv_pos_as_xyz
x,y,z
-y,x,z
-x,-y,z
y,-x,z
x,-y,-z
y,x,-z
-x,y,-z
-y,-x,-z
z,x,y
-x,z,y
-z,-x,y
x,-z,y
z,-x,-y
x,z,-y
-z,x,-y
-x,-z,-y
y,z,x
y,-z,-x
z,y,-x
-y,z,-x
-z,-y,-x
-y,-z,x
z,-y,x
-z,y,x
-x,-y,-z
y,-x,-z
x,y,-z
-y,x,-z
-x,y,z
-y,-x,z
x,-y,z
y,x,z
-z,-x,-y
x,-z,-y
z,x,-y
-x,z,-y
-z,x,y
-x,-z,y
z,-x,y
x,z,y
-y,-z,-x
-y,z,x
-z,-y,x
y,-z,x
z,y,x
y,z,-x
-z,y,-x
z,-y,-x
loop_
_atom_site_label
_atom_site_type_symbol
_atom_site_fract_x
_atom_site_fract_y
_atom_site_fract_z
_atom_site_occupancy
_atom_site_U_iso_or_equiv
Co1 Co 0 0.5 0.5 1 0.0
Ta1 Ta 0 0 0 0.17 0.0
Ti1 Ti 0 0 0 0.83 0.0
