#------------------------------------------------------------------------------
#$Date: 2015-07-11 22:02:53 +0300 (Sat, 11 Jul 2015) $
#$Revision: 145680 $
#$URL: svn://www.crystallography.net/cod/cif/1/52/48/1524830.cif $
#------------------------------------------------------------------------------
#
# This file is available in the Crystallography Open Database (COD),
# http://www.crystallography.net/
#
# All data on this site have been placed in the public domain by the
# contributors.
#
data_1524830
loop_
_publ_author_name
'Luo, H.L.'
'Duwez, P.'
_publ_section_title
;
 Face-centered cubic cobalt-rich solid solutions in binary alloys with Al,
 Ga, Si, Ge, and Sn
;
_journal_name_full               'Canadian Journal of Physics'
_journal_page_first              758
_journal_page_last               761
_journal_volume                  41
_journal_year                    1963
_chemical_formula_sum            'Co0.81 Ge0.19'
_chemical_name_systematic        '(Co0.81 Ge0.19)'
_space_group_IT_number           221
_symmetry_space_group_name_Hall  '-P 4 2 3'
_symmetry_space_group_name_H-M   'P m -3 m'
_cell_angle_alpha                90
_cell_angle_beta                 90
_cell_angle_gamma                90
_cell_formula_units_Z            1
_cell_length_a                   3.578
_cell_length_b                   3.578
_cell_length_c                   3.578
_cell_volume                     45.806
_citation_journal_id_ASTM        CJPHAD
_cod_data_source_file            Luo_CJPHAD_1963_1056.cif
_cod_data_source_block           Co0.81Ge0.19
_cod_original_cell_volume        45.80586
_cod_database_code               1524830
loop_
_symmetry_equiv_pos_as_xyz
x,y,z
-y,x,z
-x,-y,z
y,-x,z
x,-y,-z
y,x,-z
-x,y,-z
-y,-x,-z
z,x,y
-x,z,y
-z,-x,y
x,-z,y
z,-x,-y
x,z,-y
-z,x,-y
-x,-z,-y
y,z,x
y,-z,-x
z,y,-x
-y,z,-x
-z,-y,-x
-y,-z,x
z,-y,x
-z,y,x
-x,-y,-z
y,-x,-z
x,y,-z
-y,x,-z
-x,y,z
-y,-x,z
x,-y,z
y,x,z
-z,-x,-y
x,-z,-y
z,x,-y
-x,z,-y
-z,x,y
-x,-z,y
z,-x,y
x,z,y
-y,-z,-x
-y,z,x
-z,-y,x
y,-z,x
z,y,x
y,z,-x
-z,y,-x
z,-y,-x
loop_
_atom_site_label
_atom_site_type_symbol
_atom_site_fract_x
_atom_site_fract_y
_atom_site_fract_z
_atom_site_occupancy
_atom_site_U_iso_or_equiv
Co1 Co 0 0 0 0.81 0.0
Ge1 Ge 0 0 0 0.19 0.0
