#------------------------------------------------------------------------------
#$Date: 2018-09-27 07:13:35 +0300 (Thu, 27 Sep 2018) $
#$Revision: 211196 $
#$URL: file:///home/coder/svn-repositories/cod/cif/1/52/49/1524911.cif $
#------------------------------------------------------------------------------
#
# This file is available in the Crystallography Open Database (COD),
# http://www.crystallography.net/
#
# All data on this site have been placed in the public domain by the
# contributors.
#
data_1524911
loop_
_publ_author_name
'McMasters, O.D.'
'Gschneidner, K.A.jr.'
_publ_section_title
;
 The europium-lead system
;
_journal_name_full               'Journal of the Less-Common Metals'
_journal_page_first              193
_journal_page_last               199
_journal_volume                  13
_journal_year                    1967
_chemical_formula_sum            'Eu2 Pb'
_space_group_IT_number           62
_symmetry_space_group_name_Hall  '-P 2ac 2n'
_symmetry_space_group_name_H-M   'P n m a'
_cell_angle_alpha                90
_cell_angle_beta                 90
_cell_angle_gamma                90
_cell_formula_units_Z            4
_cell_length_a                   7.87
_cell_length_b                   5.4
_cell_length_c                   10.03
_cell_volume                     426.255
_citation_journal_id_ASTM        JCOMAH
_cod_data_source_file            McMasters_JCOMAH_1967_1877.cif
_cod_data_source_block           Eu2Pb1
_cod_original_cell_volume        426.2549
_cod_original_formula_sum        'Eu2 Pb1'
_cod_database_code               1524911
loop_
_symmetry_equiv_pos_as_xyz
x,y,z
-x+1/2,-y,z+1/2
x+1/2,-y+1/2,-z+1/2
-x,y+1/2,-z
-x,-y,-z
x-1/2,y,-z-1/2
-x-1/2,y-1/2,z-1/2
x,-y-1/2,z
loop_
_atom_site_label
_atom_site_type_symbol
_atom_site_fract_x
_atom_site_fract_y
_atom_site_fract_z
_atom_site_occupancy
_atom_site_U_iso_or_equiv
Eu1 Eu 0.845 0.25 0.074 1 0.0
Eu2 Eu 0.978 0.25 0.676 1 0.0
Pb1 Pb 0.245 0.25 0.107 1 0.0
