#------------------------------------------------------------------------------
#$Date: 2016-02-13 21:28:24 +0200 (Sat, 13 Feb 2016) $
#$Revision: 176429 $
#$URL: svn://www.crystallography.net/cod/cif/1/52/50/1525091.cif $
#------------------------------------------------------------------------------
#
# This file is available in the Crystallography Open Database (COD),
# http://www.crystallography.net/
#
# All data on this site have been placed in the public domain by the
# contributors.
#
data_1525091
loop_
_publ_author_name
'Pierre, J.'
'Galera, R.M.'
'Siaud, E.'
_publ_section_title
;
 Evidence for Kondo-type behaviour in Cex R1-x M compounds with R= La, Y
 and M= Mg, Zn
;
_journal_name_full               'Journal de Physique (Paris)'
_journal_page_first              621
_journal_page_last               626
_journal_volume                  46
_journal_year                    1985
_chemical_formula_sum            'Ce0.2 Mg Y0.8'
_chemical_name_systematic        '(Ce0.2 Y0.8) Mg'
_space_group_IT_number           221
_symmetry_space_group_name_Hall  '-P 4 2 3'
_symmetry_space_group_name_H-M   'P m -3 m'
_cell_angle_alpha                90
_cell_angle_beta                 90
_cell_angle_gamma                90
_cell_formula_units_Z            1
_cell_length_a                   3.81
_cell_length_b                   3.81
_cell_length_c                   3.81
_cell_volume                     55.306
_citation_journal_id_ASTM        JOPQAG
_cod_data_source_file            Pierre_JOPQAG_1985_838.cif
_cod_data_source_block           Ce0.2Mg1Y0.8
_cod_original_cell_volume        55.30634
_cod_original_formula_sum        'Ce0.2 Mg1 Y0.8'
_cod_database_code               1525091
loop_
_symmetry_equiv_pos_as_xyz
x,y,z
-y,x,z
-x,-y,z
y,-x,z
x,-y,-z
y,x,-z
-x,y,-z
-y,-x,-z
z,x,y
-x,z,y
-z,-x,y
x,-z,y
z,-x,-y
x,z,-y
-z,x,-y
-x,-z,-y
y,z,x
y,-z,-x
z,y,-x
-y,z,-x
-z,-y,-x
-y,-z,x
z,-y,x
-z,y,x
-x,-y,-z
y,-x,-z
x,y,-z
-y,x,-z
-x,y,z
-y,-x,z
x,-y,z
y,x,z
-z,-x,-y
x,-z,-y
z,x,-y
-x,z,-y
-z,x,y
-x,-z,y
z,-x,y
x,z,y
-y,-z,-x
-y,z,x
-z,-y,x
y,-z,x
z,y,x
y,z,-x
-z,y,-x
z,-y,-x
loop_
_atom_site_label
_atom_site_type_symbol
_atom_site_fract_x
_atom_site_fract_y
_atom_site_fract_z
_atom_site_occupancy
_atom_site_U_iso_or_equiv
Mg1 Mg 0.5 0.5 0.5 1 0.0
Ce1 Ce 0 0 0 0.2 0.0
Y1 Y 0 0 0 0.8 0.0
