#------------------------------------------------------------------------------
#$Date: 2016-02-13 21:28:24 +0200 (Sat, 13 Feb 2016) $
#$Revision: 176429 $
#$URL: svn://www.crystallography.net/cod/cif/1/52/53/1525373.cif $
#------------------------------------------------------------------------------
#
# This file is available in the Crystallography Open Database (COD),
# http://www.crystallography.net/
#
# All data on this site have been placed in the public domain by the
# contributors.
#
data_1525373
loop_
_publ_author_name
'Tay, C.Y.'
'Harris, I.R.'
_publ_section_title
;
 The effects of different sample preparation and hydrogenation of some Ce
 Rh3-x Pdx alloys
;
_journal_name_full               'Journal of the Less-Common Metals'
_journal_page_first              177
_journal_page_last               192
_journal_volume                  53
_journal_year                    1977
_chemical_formula_sum            'Ce Pd1.5 Rh1.5'
_chemical_name_systematic        'Ce (Pd1.5 Rh1.5)'
_space_group_IT_number           221
_symmetry_space_group_name_Hall  '-P 4 2 3'
_symmetry_space_group_name_H-M   'P m -3 m'
_cell_angle_alpha                90
_cell_angle_beta                 90
_cell_angle_gamma                90
_cell_formula_units_Z            1
_cell_length_a                   4.0607
_cell_length_b                   4.0607
_cell_length_c                   4.0607
_cell_volume                     66.958
_citation_journal_id_ASTM        JCOMAH
_cod_data_source_file            Tay_JCOMAH_1977_862.cif
_cod_data_source_block           Ce1Pd1.5Rh1.5
_cod_original_cell_volume        66.95804
_cod_original_formula_sum        'Ce1 Pd1.5 Rh1.5'
_cod_database_code               1525373
loop_
_symmetry_equiv_pos_as_xyz
x,y,z
-y,x,z
-x,-y,z
y,-x,z
x,-y,-z
y,x,-z
-x,y,-z
-y,-x,-z
z,x,y
-x,z,y
-z,-x,y
x,-z,y
z,-x,-y
x,z,-y
-z,x,-y
-x,-z,-y
y,z,x
y,-z,-x
z,y,-x
-y,z,-x
-z,-y,-x
-y,-z,x
z,-y,x
-z,y,x
-x,-y,-z
y,-x,-z
x,y,-z
-y,x,-z
-x,y,z
-y,-x,z
x,-y,z
y,x,z
-z,-x,-y
x,-z,-y
z,x,-y
-x,z,-y
-z,x,y
-x,-z,y
z,-x,y
x,z,y
-y,-z,-x
-y,z,x
-z,-y,x
y,-z,x
z,y,x
y,z,-x
-z,y,-x
z,-y,-x
loop_
_atom_site_label
_atom_site_type_symbol
_atom_site_fract_x
_atom_site_fract_y
_atom_site_fract_z
_atom_site_occupancy
_atom_site_U_iso_or_equiv
Ce1 Ce 0 0 0 1 0.0
Pd1 Pd 0 0.5 0.5 0.5 0.0
Rh1 Rh 0 0.5 0.5 0.5 0.0
