#------------------------------------------------------------------------------
#$Date: 2016-02-13 21:28:24 +0200 (Sat, 13 Feb 2016) $
#$Revision: 176429 $
#$URL: svn://www.crystallography.net/cod/cif/1/52/54/1525474.cif $
#------------------------------------------------------------------------------
#
# This file is available in the Crystallography Open Database (COD),
# http://www.crystallography.net/
#
# All data on this site have been placed in the public domain by the
# contributors.
#
data_1525474
loop_
_publ_author_name
'Wu Chuying'
'Li Jianchun'
_publ_section_title
;
 Phase structure of the Ti Cu1-x Fex system
;
_journal_name_full
;
Metallurgical Transactions A: Physical Metallurgy and Materials Science
;
_journal_page_first              981
_journal_page_last               985
_journal_volume                  20
_journal_year                    1989
_chemical_formula_sum            'Cu0.5 Fe0.5 Ti'
_chemical_name_systematic        '(Cu0.5 Fe0.5) Ti'
_space_group_IT_number           221
_symmetry_space_group_name_Hall  '-P 4 2 3'
_symmetry_space_group_name_H-M   'P m -3 m'
_cell_angle_alpha                90
_cell_angle_beta                 90
_cell_angle_gamma                90
_cell_formula_units_Z            1
_cell_length_a                   3.035
_cell_length_b                   3.035
_cell_length_c                   3.035
_cell_volume                     27.956
_citation_journal_id_ASTM        MTTABN
_cod_data_source_file            WuChuying_MTTABN_1989_1422.cif
_cod_data_source_block           Cu0.5Fe0.5Ti1
_cod_original_cell_volume        27.95607
_cod_original_formula_sum        'Cu0.5 Fe0.5 Ti1'
_cod_database_code               1525474
loop_
_symmetry_equiv_pos_as_xyz
x,y,z
-y,x,z
-x,-y,z
y,-x,z
x,-y,-z
y,x,-z
-x,y,-z
-y,-x,-z
z,x,y
-x,z,y
-z,-x,y
x,-z,y
z,-x,-y
x,z,-y
-z,x,-y
-x,-z,-y
y,z,x
y,-z,-x
z,y,-x
-y,z,-x
-z,-y,-x
-y,-z,x
z,-y,x
-z,y,x
-x,-y,-z
y,-x,-z
x,y,-z
-y,x,-z
-x,y,z
-y,-x,z
x,-y,z
y,x,z
-z,-x,-y
x,-z,-y
z,x,-y
-x,z,-y
-z,x,y
-x,-z,y
z,-x,y
x,z,y
-y,-z,-x
-y,z,x
-z,-y,x
y,-z,x
z,y,x
y,z,-x
-z,y,-x
z,-y,-x
loop_
_atom_site_label
_atom_site_type_symbol
_atom_site_fract_x
_atom_site_fract_y
_atom_site_fract_z
_atom_site_occupancy
_atom_site_U_iso_or_equiv
Cu1 Cu 0 0 0 0.5 0.0
Fe1 Fe 0 0 0 0.5 0.0
Ti1 Ti 0.5 0.5 0.5 1 0.0
