#------------------------------------------------------------------------------
#$Date: 2016-02-13 21:28:24 +0200 (Sat, 13 Feb 2016) $
#$Revision: 176429 $
#$URL: svn://www.crystallography.net/cod/cif/1/52/54/1525499.cif $
#------------------------------------------------------------------------------
#
# This file is available in the Crystallography Open Database (COD),
# http://www.crystallography.net/
#
# All data on this site have been placed in the public domain by the
# contributors.
#
data_1525499
loop_
_publ_author_name
'Young, R.A.'
'Mackie, P.E.'
_publ_section_title
;
 Cristallography of human tooth enamel. Initial structure refinement
;
_journal_name_full               'Materials Research Bulletin'
_journal_page_first              17
_journal_page_last               29
_journal_volume                  15
_journal_year                    1980
_chemical_formula_sum            'Ca4.372 Cl0.316 H16.822 O18.13 P2.202'
_chemical_name_systematic        'Ca4.372 P2.202 O18.130 H16.822 Cl.316'
_space_group_IT_number           176
_symmetry_space_group_name_Hall  '-P 6c'
_symmetry_space_group_name_H-M   'P 63/m'
_cell_angle_alpha                90
_cell_angle_beta                 90
_cell_angle_gamma                120
_cell_formula_units_Z            1
_cell_length_a                   9.447
_cell_length_b                   9.447
_cell_length_c                   6.892
_cell_volume                     532.677
_citation_journal_id_ASTM        MRBUAC
_cod_data_source_file            Young_MRBUAC_1980_503.cif
_cod_data_source_block           H16.822Ca4.372Cl0.316O18.13P2.202
_cod_original_cell_volume        532.6767
_cod_original_formula_sum        'H16.822 Ca4.372 Cl0.316 O18.13 P2.202'
_cod_database_code               1525499
loop_
_symmetry_equiv_pos_as_xyz
x,y,z
x-y,x,z+1/2
-y,x-y,z
-x,-y,z+1/2
-x+y,-x,z
y,-x+y,z+1/2
-x,-y,-z
-x+y,-x,-z-1/2
y,-x+y,-z
x,y,-z-1/2
x-y,x,-z
-y,x-y,-z-1/2
loop_
_atom_site_label
_atom_site_type_symbol
_atom_site_fract_x
_atom_site_fract_y
_atom_site_fract_z
_atom_site_occupancy
_atom_site_U_iso_or_equiv
O2 O-2 0.574 0.459 0.25 0.414 0.0
Ca2 Ca+2 0.253 0 0.25 0.5 0.0
Ca1 Ca+2 0.3333 0.6667 -0.024 0.343 0.0
O1 O-2 0.323 0.477 0.25 0.525 0.0
O4 O-2 0 0 0.198 0.142 0.0
O3 O-2 0.333 0.247 0.067 0.994 0.0
Cl1 Cl-1 0 0 0.444 0.079 0.0
P1 P+5 0.407 0.375 0.25 0.367 0.0
