#------------------------------------------------------------------------------
#$Date: 2016-02-13 21:28:24 +0200 (Sat, 13 Feb 2016) $
#$Revision: 176429 $
#$URL: svn://www.crystallography.net/cod/cif/1/52/59/1525964.cif $
#------------------------------------------------------------------------------
#
# This file is available in the Crystallography Open Database (COD),
# http://www.crystallography.net/
#
# All data on this site have been placed in the public domain by the
# contributors.
#
data_1525964
loop_
_publ_author_name
'Mattesini, M.'
'Matar, S.F.'
_publ_section_title
;
 Search for ultra-hard materials : theoretical characterisation of novel
 orthorhombic B C2 N crystals
;
_journal_name_full
'International Journal of Inorganic Materials'
_journal_page_first              943
_journal_page_last               957
_journal_volume                  3
_journal_year                    2001
_chemical_formula_sum            'C2 B N'
_chemical_name_systematic        'B C2 N'
_space_group_IT_number           25
_symmetry_space_group_name_Hall  'P 2 -2'
_symmetry_space_group_name_H-M   'P m m 2'
_cell_angle_alpha                90
_cell_angle_beta                 90
_cell_angle_gamma                90
_cell_formula_units_Z            1
_cell_length_a                   2.528
_cell_length_b                   2.5024
_cell_length_c                   3.5871
_cell_volume                     22.692
_citation_journal_id_ASTM        IJIMCR
_cod_data_source_file            Mattesini_IJIMCR_2001_1071.cif
_cod_data_source_block           C2B1N1
_cod_original_cell_volume        22.69224
_cod_original_formula_sum        'C2 B1 N1'
_cod_database_code               1525964
loop_
_symmetry_equiv_pos_as_xyz
x,y,z
-x,-y,z
-x,y,z
x,-y,z
loop_
_atom_site_label
_atom_site_type_symbol
_atom_site_fract_x
_atom_site_fract_y
_atom_site_fract_z
_atom_site_occupancy
_atom_site_U_iso_or_equiv
B1 B 0.5 0 0.124 1 0.0
C2 C 0 0 0.866 1 0.0
C1 C 0 0.5 0.631 1 0.0
N1 N 0.5 0.5 0.38 1 0.0
