#------------------------------------------------------------------------------
#$Date: 2016-02-13 21:28:24 +0200 (Sat, 13 Feb 2016) $
#$Revision: 176429 $
#$URL: svn://www.crystallography.net/cod/cif/1/52/62/1526258.cif $
#------------------------------------------------------------------------------
#
# This file is available in the Crystallography Open Database (COD),
# http://www.crystallography.net/
#
# All data on this site have been placed in the public domain by the
# contributors.
#
data_1526258
loop_
_publ_author_name
'Harari, D.'
'Bernier, J.C.'
'Poix, P.'
_publ_section_title
;
 Contribution a l'Etude de Deux Tellurates de Type Perovskite
;
_journal_name_full               'Journal of Solid State Chemistry'
_journal_page_first              382
_journal_page_last               390
_journal_volume                  5
_journal_year                    1972
_chemical_formula_sum            'Ba3 Fe2 O9 Te'
_chemical_name_systematic        'Ba3 Fe ((Fe Te) O9)'
_space_group_IT_number           194
_symmetry_space_group_name_Hall  '-P 6c 2c'
_symmetry_space_group_name_H-M   'P 63/m m c'
_cell_angle_alpha                90
_cell_angle_beta                 90
_cell_angle_gamma                120
_cell_formula_units_Z            2
_cell_length_a                   5.77
_cell_length_b                   5.77
_cell_length_c                   14.207
_cell_volume                     409.623
_citation_journal_id_ASTM        JSSCBI
_cod_data_source_file            Harari_JSSCBI_1972_1842.cif
_cod_data_source_block           Ba3Fe2O9Te1
_cod_original_cell_volume        409.6233
_cod_original_formula_sum        'Ba3 Fe2 O9 Te1'
_cod_database_code               1526258
loop_
_symmetry_equiv_pos_as_xyz
x,y,z
x-y,x,z+1/2
-y,x-y,z
-x,-y,z+1/2
-x+y,-x,z
y,-x+y,z+1/2
-y,-x,-z+1/2
x-y,-y,-z
x,x-y,-z+1/2
y,x,-z
-x+y,y,-z+1/2
-x,-x+y,-z
-x,-y,-z
-x+y,-x,-z-1/2
y,-x+y,-z
x,y,-z-1/2
x-y,x,-z
-y,x-y,-z-1/2
y,x,z-1/2
-x+y,y,z
-x,-x+y,z-1/2
-y,-x,z
x-y,-y,z-1/2
x,x-y,z
loop_
_atom_site_label
_atom_site_type_symbol
_atom_site_fract_x
_atom_site_fract_y
_atom_site_fract_z
_atom_site_occupancy
_atom_site_U_iso_or_equiv
Fe2 Fe+3 0.3333 0.6667 0.847 0.5 0.0
Te1 Te+6 0.3333 0.6667 0.847 0.5 0.0
Ba2 Ba+2 0.3333 0.6667 0.095 1 0.0
Fe1 Fe+3 0 0 0 1 0.0
O2 O-2 0.838 0.676 0.074 1 0.0
Ba1 Ba+2 0 0 0.25 1 0.0
O1 O-2 0.506 0.012 0.25 1 0.0
