#------------------------------------------------------------------------------
#$Date: 2018-09-27 07:13:35 +0300 (Thu, 27 Sep 2018) $
#$Revision: 211196 $
#$URL: file:///home/coder/svn-repositories/cod/cif/1/52/67/1526723.cif $
#------------------------------------------------------------------------------
#
# This file is available in the Crystallography Open Database (COD),
# http://www.crystallography.net/
#
# All data on this site have been placed in the public domain by the
# contributors.
#
data_1526723
loop_
_publ_author_name
'Szytula, A.'
'Zygmunt, A.'
'Hofmann, M.'
'Leciejewicz, J.'
'Penc, B.'
_publ_section_title
;
 Magnetic properties and magnetic structures of R Ir Si (R = Tb-Er) series
 of compounds
;
_journal_name_full               'Journal of Alloys Compd.'
_journal_page_first              58
_journal_page_last               63
_journal_volume                  316
_journal_year                    2001
_chemical_formula_sum            'Dy Ir Si'
_space_group_IT_number           62
_symmetry_space_group_name_Hall  '-P 2ac 2n'
_symmetry_space_group_name_H-M   'P n m a'
_cell_angle_alpha                90
_cell_angle_beta                 90
_cell_angle_gamma                90
_cell_formula_units_Z            4
_cell_length_a                   6.8167
_cell_length_b                   4.1929
_cell_length_c                   7.4384
_cell_volume                     212.602
_citation_journal_id_ASTM        JALCEU
_cod_data_source_file            Szytula_JALCEU_2001_1197.cif
_cod_data_source_block           Dy1Ir1Si1
_cod_original_cell_volume        212.6024
_cod_original_formula_sum        'Dy1 Ir1 Si1'
_cod_database_code               1526723
loop_
_symmetry_equiv_pos_as_xyz
x,y,z
-x+1/2,-y,z+1/2
x+1/2,-y+1/2,-z+1/2
-x,y+1/2,-z
-x,-y,-z
x-1/2,y,-z-1/2
-x-1/2,y-1/2,z-1/2
x,-y-1/2,z
loop_
_atom_site_label
_atom_site_type_symbol
_atom_site_fract_x
_atom_site_fract_y
_atom_site_fract_z
_atom_site_occupancy
_atom_site_U_iso_or_equiv
Ir1 Ir 0.1599 0.25 0.0624 1 0.0
Dy1 Dy 0.0044 0.25 0.685 1 0.0
Si1 Si 0.2627 0.25 0.3656 1 0.0
