#------------------------------------------------------------------------------
#$Date: 2016-02-13 21:28:24 +0200 (Sat, 13 Feb 2016) $
#$Revision: 176429 $
#$URL: svn://www.crystallography.net/cod/cif/1/52/69/1526946.cif $
#------------------------------------------------------------------------------
#
# This file is available in the Crystallography Open Database (COD),
# http://www.crystallography.net/
#
# All data on this site have been placed in the public domain by the
# contributors.
#
data_1526946
loop_
_publ_author_name
'Williams, D.'
'Kouvetakis, J.'
'Pleune, B.'
'Leinenweber, K.'
_publ_section_title
;
 Synthesis and structural properties of the binary framework C - N
 compounds of Be, Mg, Al and Tl
;
_journal_name_full               'Journal of Solid State Chemistry'
_journal_page_first              244
_journal_page_last               250
_journal_volume                  159
_journal_year                    2001
_chemical_formula_sum            'C3 Al N3'
_chemical_name_systematic        'Al (C N)3'
_space_group_IT_number           221
_symmetry_space_group_name_Hall  '-P 4 2 3'
_symmetry_space_group_name_H-M   'P m -3 m'
_cell_angle_alpha                90
_cell_angle_beta                 90
_cell_angle_gamma                90
_cell_formula_units_Z            1
_cell_length_a                   5.205
_cell_length_b                   5.205
_cell_length_c                   5.205
_cell_volume                     141.014
_citation_journal_id_ASTM        JSSCBI
_cod_data_source_file            Williams_JSSCBI_2001_1597.cif
_cod_data_source_block           C3Al1N3
_cod_original_formula_sum        'C3 Al1 N3'
_cod_database_code               1526946
loop_
_symmetry_equiv_pos_as_xyz
x,y,z
-y,x,z
-x,-y,z
y,-x,z
x,-y,-z
y,x,-z
-x,y,-z
-y,-x,-z
z,x,y
-x,z,y
-z,-x,y
x,-z,y
z,-x,-y
x,z,-y
-z,x,-y
-x,-z,-y
y,z,x
y,-z,-x
z,y,-x
-y,z,-x
-z,-y,-x
-y,-z,x
z,-y,x
-z,y,x
-x,-y,-z
y,-x,-z
x,y,-z
-y,x,-z
-x,y,z
-y,-x,z
x,-y,z
y,x,z
-z,-x,-y
x,-z,-y
z,x,-y
-x,z,-y
-z,x,y
-x,-z,y
z,-x,y
x,z,y
-y,-z,-x
-y,z,x
-z,-y,x
y,-z,x
z,y,x
y,z,-x
-z,y,-x
z,-y,-x
loop_
_atom_site_label
_atom_site_type_symbol
_atom_site_fract_x
_atom_site_fract_y
_atom_site_fract_z
_atom_site_occupancy
_atom_site_U_iso_or_equiv
C1 C+2 0.3882 0 0 0.5 0.0
Al1 Al+3 0 0 0 1 0.0
N1 N-3 0.3882 0 0 0.5 0.0
