#------------------------------------------------------------------------------
#$Date: 2018-09-27 07:13:35 +0300 (Thu, 27 Sep 2018) $
#$Revision: 211196 $
#$URL: file:///home/coder/svn-repositories/cod/cif/1/52/71/1527102.cif $
#------------------------------------------------------------------------------
#
# This file is available in the Crystallography Open Database (COD),
# http://www.crystallography.net/
#
# All data on this site have been placed in the public domain by the
# contributors.
#
data_1527102
loop_
_publ_author_name
'Bacmann, M.'
'de Boer, F.R.'
'Fruchart, D.'
'Brabers, J.H.V.J.'
'Soubeyroux, J.L.'
'Buschow, K.H.J.'
_publ_section_title
;
 Structure and magnetic properties of Tb Mn Ga
;
_journal_name_full               'Journal of Alloys Compd.'
_journal_page_first              135
_journal_page_last               138
_journal_volume                  209
_journal_year                    1994
_chemical_formula_sum            'Ga Mn Tb'
_space_group_IT_number           189
_symmetry_space_group_name_Hall  'P -6 -2'
_symmetry_space_group_name_H-M   'P -6 2 m'
_cell_angle_alpha                90
_cell_angle_beta                 90
_cell_angle_gamma                120
_cell_formula_units_Z            3
_cell_length_a                   7.079
_cell_length_b                   7.079
_cell_length_c                   7.079
_cell_volume                     307.218
_citation_journal_id_ASTM        JALCEU
_cod_data_source_file            Bacmann_JALCEU_1994_511.cif
_cod_data_source_block           Ga1Mn1Tb1
_cod_original_cell_volume        307.2178
_cod_original_formula_sum        'Ga1 Mn1 Tb1'
_cod_database_code               1527102
loop_
_symmetry_equiv_pos_as_xyz
x,y,z
-x+y,-x,-z
-y,x-y,z
x,y,-z
-x+y,-x,z
-y,x-y,-z
y,x,z
x-y,-y,-z
-x,-x+y,z
y,x,-z
x-y,-y,z
-x,-x+y,-z
loop_
_atom_site_label
_atom_site_type_symbol
_atom_site_fract_x
_atom_site_fract_y
_atom_site_fract_z
_atom_site_occupancy
_atom_site_U_iso_or_equiv
Mn1 Mn 0 0 0.5 0.18 0.0
Mn2 Mn 0.3333 0.6667 0 0.05 0.0
Ga1 Ga 0 0 0.5 0.82 0.0
Mn3 Mn 0.2749 0 0 0.91 0.0
Ga2 Ga 0.3333 0.6667 0 0.95 0.0
Ga3 Ga 0.2749 0 0 0.09 0.0
Tb1 Tb 0.5792 0 0.5 1 0.0
