#------------------------------------------------------------------------------
#$Date: 2018-09-27 07:13:35 +0300 (Thu, 27 Sep 2018) $
#$Revision: 211196 $
#$URL: file:///home/coder/svn-repositories/cod/cif/1/52/72/1527281.cif $
#------------------------------------------------------------------------------
#
# This file is available in the Crystallography Open Database (COD),
# http://www.crystallography.net/
#
# All data on this site have been placed in the public domain by the
# contributors.
#
data_1527281
loop_
_publ_author_name
'Dascoulidou-Gritner, K.'
'Schuster, H.U.'
_publ_section_title
;
 Darstellung und Kristallstrukturen der Verbindungen Ca Pt Ga, Ca Pt In
 und Ca Pd.4 Ga1.6
;
_journal_name_full
'Zeitschrift fuer Anorganische und Allgemeine Chemie'
_journal_page_first              1151
_journal_page_last               1156
_journal_volume                  620
_journal_year                    1994
_chemical_formula_sum            'Ca Ga Pt'
_space_group_IT_number           62
_symmetry_space_group_name_Hall  '-P 2ac 2n'
_symmetry_space_group_name_H-M   'P n m a'
_cell_angle_alpha                90
_cell_angle_beta                 90
_cell_angle_gamma                90
_cell_formula_units_Z            4
_cell_length_a                   7.184
_cell_length_b                   4.429
_cell_length_c                   7.595
_cell_volume                     241.657
_citation_journal_id_ASTM        ZAACAB
_cod_data_source_file            Dascoulidou-Gritner_ZAACAB_1994_238.cif
_cod_data_source_block           Ca1Ga1Pt1
_cod_original_cell_volume        241.6572
_cod_original_formula_sum        'Ca1 Ga1 Pt1'
_cod_database_code               1527281
loop_
_symmetry_equiv_pos_as_xyz
x,y,z
-x+1/2,-y,z+1/2
x+1/2,-y+1/2,-z+1/2
-x,y+1/2,-z
-x,-y,-z
x-1/2,y,-z-1/2
-x-1/2,y-1/2,z-1/2
x,-y-1/2,z
loop_
_atom_site_label
_atom_site_type_symbol
_atom_site_fract_x
_atom_site_fract_y
_atom_site_fract_z
_atom_site_occupancy
_atom_site_U_iso_or_equiv
Ca1 Ca 0.0088 0.25 0.6911 1 0.0
Ga1 Ga 0.1704 0.25 0.0788 1 0.0
Pt1 Pt 0.2983 0.25 0.4014 1 0.0
