#------------------------------------------------------------------------------
#$Date: 2015-07-13 03:23:43 +0300 (Mon, 13 Jul 2015) $
#$Revision: 148891 $
#$URL: svn://www.crystallography.net/cod/cif/1/52/73/1527364.cif $
#------------------------------------------------------------------------------
#
# This file is available in the Crystallography Open Database (COD),
# http://www.crystallography.net/
#
# All data on this site have been placed in the public domain by the
# contributors.
#
data_1527364
loop_
_publ_author_name
'Farrar, P.A.'
'Adler, S.'
_publ_section_title
;
 On the systen titanium-zirconium
;
_journal_name_full
'Transactions of the Metallurgical Society of Aime'
_journal_page_first              1061
_journal_page_last               1064
_journal_volume                  236
_journal_year                    1966
_chemical_formula_sum            'Ti0.67 Zr0.33'
_chemical_name_systematic        '(Ti0.67 Zr0.33)'
_space_group_IT_number           194
_symmetry_space_group_name_Hall  '-P 6c 2c'
_symmetry_space_group_name_H-M   'P 63/m m c'
_cell_angle_alpha                90
_cell_angle_beta                 90
_cell_angle_gamma                120
_cell_formula_units_Z            2
_cell_length_a                   3.051
_cell_length_b                   3.051
_cell_length_c                   4.859
_cell_volume                     39.171
_citation_journal_id_ASTM        TMSAAB
_cod_data_source_file            Farrar_TMSAAB_1966_144.cif
_cod_data_source_block           Ti0.67Zr0.33
_cod_original_cell_volume        39.17076
_cod_database_code               1527364
loop_
_symmetry_equiv_pos_as_xyz
x,y,z
x-y,x,z+1/2
-y,x-y,z
-x,-y,z+1/2
-x+y,-x,z
y,-x+y,z+1/2
-y,-x,-z+1/2
x-y,-y,-z
x,x-y,-z+1/2
y,x,-z
-x+y,y,-z+1/2
-x,-x+y,-z
-x,-y,-z
-x+y,-x,-z-1/2
y,-x+y,-z
x,y,-z-1/2
x-y,x,-z
-y,x-y,-z-1/2
y,x,z-1/2
-x+y,y,z
-x,-x+y,z-1/2
-y,-x,z
x-y,-y,z-1/2
x,x-y,z
loop_
_atom_site_label
_atom_site_type_symbol
_atom_site_fract_x
_atom_site_fract_y
_atom_site_fract_z
_atom_site_occupancy
_atom_site_U_iso_or_equiv
Ti1 Ti 0.3333 0.6667 0.25 0.67 0.0
Zr1 Zr 0.3333 0.6667 0.25 0.33 0.0
