#------------------------------------------------------------------------------
#$Date: 2018-09-27 07:13:35 +0300 (Thu, 27 Sep 2018) $
#$Revision: 211196 $
#$URL: file:///home/coder/svn-repositories/cod/cif/1/52/74/1527476.cif $
#------------------------------------------------------------------------------
#
# This file is available in the Crystallography Open Database (COD),
# http://www.crystallography.net/
#
# All data on this site have been placed in the public domain by the
# contributors.
#
data_1527476
loop_
_publ_author_name
'Haije, W.G.'
'de Boer, F.R.'
'Spijkerman, J.'
'Bakker, K.'
'Buschow, K.H.J.'
_publ_section_title
;
 Magnetic structures of rare earth compounds of the type R Fe10 V2
;
_journal_name_full               'Journal of the Less-Common Metals'
_journal_page_first              285
_journal_page_last               295
_journal_volume                  162
_journal_year                    1990
_chemical_formula_sum            'Er Fe10 V2'
_space_group_IT_number           139
_symmetry_space_group_name_Hall  '-I 4 2'
_symmetry_space_group_name_H-M   'I 4/m m m'
_cell_angle_alpha                90
_cell_angle_beta                 90
_cell_angle_gamma                90
_cell_formula_units_Z            2
_cell_length_a                   8.451
_cell_length_b                   8.451
_cell_length_c                   4.7539
_cell_volume                     339.521
_citation_journal_id_ASTM        JCOMAH
_cod_data_source_file            Haije_JCOMAH_1990_425.cif
_cod_data_source_block           Er1Fe10V2
_cod_original_cell_volume        339.5207
_cod_original_formula_sum        'Er1 Fe10 V2'
_cod_database_code               1527476
loop_
_symmetry_equiv_pos_as_xyz
x,y,z
-y,x,z
-x,-y,z
y,-x,z
x,-y,-z
y,x,-z
-x,y,-z
-y,-x,-z
-x,-y,-z
y,-x,-z
x,y,-z
-y,x,-z
-x,y,z
-y,-x,z
x,-y,z
y,x,z
x+1/2,y+1/2,z+1/2
-y+1/2,x+1/2,z+1/2
-x+1/2,-y+1/2,z+1/2
y+1/2,-x+1/2,z+1/2
x+1/2,-y+1/2,-z+1/2
y+1/2,x+1/2,-z+1/2
-x+1/2,y+1/2,-z+1/2
-y+1/2,-x+1/2,-z+1/2
-x+1/2,-y+1/2,-z+1/2
y+1/2,-x+1/2,-z+1/2
x+1/2,y+1/2,-z+1/2
-y+1/2,x+1/2,-z+1/2
-x+1/2,y+1/2,z+1/2
-y+1/2,-x+1/2,z+1/2
x+1/2,-y+1/2,z+1/2
y+1/2,x+1/2,z+1/2
loop_
_atom_site_label
_atom_site_type_symbol
_atom_site_fract_x
_atom_site_fract_y
_atom_site_fract_z
_atom_site_occupancy
_atom_site_U_iso_or_equiv
Fe3 Fe 0.3607 0 0 0.5 0.0
Fe2 Fe 0.2831 0.5 0 1 0.0
V3 V 0.3607 0 0 0.5 0.0
Fe1 Fe 0.25 0.25 0.25 1 0.0
Er1 Er 0 0 0 1 0.0
