#------------------------------------------------------------------------------
#$Date: 2016-02-13 21:28:24 +0200 (Sat, 13 Feb 2016) $
#$Revision: 176429 $
#$URL: svn://www.crystallography.net/cod/cif/1/52/75/1527520.cif $
#------------------------------------------------------------------------------
#
# This file is available in the Crystallography Open Database (COD),
# http://www.crystallography.net/
#
# All data on this site have been placed in the public domain by the
# contributors.
#
data_1527520
loop_
_publ_author_name
'Homann, R.'
'Hoppe, R.'
_publ_section_title
;
 Neue Hexafluoroplumbate(IV) Mg Pb F6, Zn Pb F6, Cd Pb F6, Hg Pb F6 und Ni
 Pb F6
;
_journal_name_full
'Zeitschrift fuer Anorganische und Allgemeine Chemie'
_journal_page_first              271
_journal_page_last               278
_journal_volume                  368
_journal_year                    1969
_chemical_formula_sum            'F6 Ni Pb'
_chemical_name_systematic        'Ni Pb F6'
_space_group_IT_number           148
_symmetry_space_group_name_Hall  '-R 3'
_symmetry_space_group_name_H-M   'R -3 :H'
_cell_angle_alpha                90
_cell_angle_beta                 90
_cell_angle_gamma                120
_cell_formula_units_Z            3
_cell_length_a                   5.21
_cell_length_b                   5.21
_cell_length_c                   14
_cell_volume                     329.105
_citation_journal_id_ASTM        ZAACAB
_cod_data_source_file            Homann_ZAACAB_1969_1249.cif
_cod_data_source_block           F6Ni1Pb1
_cod_original_cell_volume        329.1047
_cod_original_formula_sum        'F6 Ni1 Pb1'
_cod_database_code               1527520
loop_
_symmetry_equiv_pos_as_xyz
x,y,z
-y,x-y,z
-x+y,-x,z
-x,-y,-z
y,-x+y,-z
x-y,x,-z
x+2/3,y+1/3,z+1/3
-y+2/3,x-y+1/3,z+1/3
-x+y+2/3,-x+1/3,z+1/3
-x+2/3,-y+1/3,-z+1/3
y+2/3,-x+y+1/3,-z+1/3
x-y+2/3,x+1/3,-z+1/3
x+1/3,y+2/3,z+2/3
-y+1/3,x-y+2/3,z+2/3
-x+y+1/3,-x+2/3,z+2/3
-x+1/3,-y+2/3,-z+2/3
y+1/3,-x+y+2/3,-z+2/3
x-y+1/3,x+2/3,-z+2/3
loop_
_atom_site_label
_atom_site_type_symbol
_atom_site_fract_x
_atom_site_fract_y
_atom_site_fract_z
_atom_site_occupancy
_atom_site_U_iso_or_equiv
Pb1 Pb+4 0 0 0.5 1 0.0
Ni1 Ni+2 0 0 0 1 0.0
F1 F-1 0.319 0.018 -0.08 1 0.0
