#------------------------------------------------------------------------------
#$Date: 2015-07-13 05:11:25 +0300 (Mon, 13 Jul 2015) $
#$Revision: 149344 $
#$URL: svn://www.crystallography.net/cod/cif/1/52/76/1527662.cif $
#------------------------------------------------------------------------------
#
# This file is available in the Crystallography Open Database (COD),
# http://www.crystallography.net/
#
# All data on this site have been placed in the public domain by the
# contributors.
#
data_1527662
loop_
_publ_author_name
'Koch, C.C.'
'Love, G.R.'
_publ_section_title
;
 An investigation of the V-Tc alloy system
;
_journal_name_full               'Journal of the Less-Common Metals'
_journal_page_first              43
_journal_page_last               58
_journal_volume                  15
_journal_year                    1968
_chemical_formula_sum            'Tc0.95 V0.05'
_chemical_name_systematic        '(Tc0.95 V0.05)'
_space_group_IT_number           194
_symmetry_space_group_name_Hall  '-P 6c 2c'
_symmetry_space_group_name_H-M   'P 63/m m c'
_cell_angle_alpha                90
_cell_angle_beta                 90
_cell_angle_gamma                120
_cell_formula_units_Z            2
_cell_length_a                   2.737
_cell_length_b                   2.737
_cell_length_c                   4.405
_cell_volume                     28.578
_citation_journal_id_ASTM        JCOMAH
_cod_data_source_file            Koch_JCOMAH_1968_110.cif
_cod_data_source_block           Tc0.95V0.05
_cod_original_cell_volume        28.57763
_cod_database_code               1527662
loop_
_symmetry_equiv_pos_as_xyz
x,y,z
x-y,x,z+1/2
-y,x-y,z
-x,-y,z+1/2
-x+y,-x,z
y,-x+y,z+1/2
-y,-x,-z+1/2
x-y,-y,-z
x,x-y,-z+1/2
y,x,-z
-x+y,y,-z+1/2
-x,-x+y,-z
-x,-y,-z
-x+y,-x,-z-1/2
y,-x+y,-z
x,y,-z-1/2
x-y,x,-z
-y,x-y,-z-1/2
y,x,z-1/2
-x+y,y,z
-x,-x+y,z-1/2
-y,-x,z
x-y,-y,z-1/2
x,x-y,z
loop_
_atom_site_label
_atom_site_type_symbol
_atom_site_fract_x
_atom_site_fract_y
_atom_site_fract_z
_atom_site_occupancy
_atom_site_U_iso_or_equiv
V1 V 0.3333 0.6667 0.25 0.05 0.0
Tc1 Tc 0.3333 0.6667 0.25 0.95 0.0
