#------------------------------------------------------------------------------
#$Date: 2018-09-27 07:13:35 +0300 (Thu, 27 Sep 2018) $
#$Revision: 211196 $
#$URL: file:///home/coder/svn-repositories/cod/cif/1/52/77/1527720.cif $
#------------------------------------------------------------------------------
#
# This file is available in the Crystallography Open Database (COD),
# http://www.crystallography.net/
#
# All data on this site have been placed in the public domain by the
# contributors.
#
data_1527720
loop_
_publ_author_name
'Laube, E.'
'Kuz'ma, Yu.B.'
_publ_section_title
;
 Ueber einige Y- and Dy-haltige Legierungsphasen
;
_journal_name_full               'Monatshefte fuer Chemie (-108,1977)'
_journal_page_first              1504
_journal_page_last               1513
_journal_volume                  95
_journal_year                    1964
_chemical_formula_sum            'Y Zn5'
_space_group_IT_number           191
_symmetry_space_group_name_Hall  '-P 6 2'
_symmetry_space_group_name_H-M   'P 6/m m m'
_cell_angle_alpha                90
_cell_angle_beta                 90
_cell_angle_gamma                120
_cell_formula_units_Z            1
_cell_length_a                   5.185
_cell_length_b                   5.185
_cell_length_c                   4.382
_cell_volume                     102.024
_citation_journal_id_ASTM        MOCHAP
_cod_data_source_file            Laube_MOCHAP_1964_170.cif
_cod_data_source_block           Y1Zn5
_cod_original_cell_volume        102.0236
_cod_original_formula_sum        'Y1 Zn5'
_cod_database_code               1527720
loop_
_symmetry_equiv_pos_as_xyz
x,y,z
x-y,x,z
-y,x-y,z
-x,-y,z
-x+y,-x,z
y,-x+y,z
-y,-x,-z
x-y,-y,-z
x,x-y,-z
y,x,-z
-x+y,y,-z
-x,-x+y,-z
-x,-y,-z
-x+y,-x,-z
y,-x+y,-z
x,y,-z
x-y,x,-z
-y,x-y,-z
y,x,z
-x+y,y,z
-x,-x+y,z
-y,-x,z
x-y,-y,z
x,x-y,z
loop_
_atom_site_label
_atom_site_type_symbol
_atom_site_fract_x
_atom_site_fract_y
_atom_site_fract_z
_atom_site_occupancy
_atom_site_U_iso_or_equiv
Zn2 Zn 0.5 0 0.5 1 0.0
Zn1 Zn 0.3333 0.6667 0 1 0.0
Y1 Y 0 0 0 1 0.0
