#------------------------------------------------------------------------------
#$Date: 2018-09-27 07:13:35 +0300 (Thu, 27 Sep 2018) $
#$Revision: 211196 $
#$URL: file:///home/coder/svn-repositories/cod/cif/1/52/80/1528010.cif $
#------------------------------------------------------------------------------
#
# This file is available in the Crystallography Open Database (COD),
# http://www.crystallography.net/
#
# All data on this site have been placed in the public domain by the
# contributors.
#
data_1528010
loop_
_publ_author_name
'Sanchez, J.P.'
'Ressouche, E.'
'Blaise, A.'
'Tomala, K.'
'Malaman, B.'
'Venturini, G.'
'Kmiec, R.'
_publ_section_title
;
 Magnetic properties of Dy Ir2 Si2 and Er Ir2 Si2
;
_journal_name_full               'Journal of Magnetism and Magnetic Materials'
_journal_page_first              295
_journal_page_last               311
_journal_volume                  128
_journal_year                    1993
_chemical_formula_sum            'Er Ru2 Si2'
_space_group_IT_number           139
_symmetry_space_group_name_Hall  '-I 4 2'
_symmetry_space_group_name_H-M   'I 4/m m m'
_cell_angle_alpha                90
_cell_angle_beta                 90
_cell_angle_gamma                90
_cell_formula_units_Z            2
_cell_length_a                   4.026
_cell_length_b                   4.026
_cell_length_c                   9.813
_cell_volume                     159.056
_citation_journal_id_ASTM        JMMMDC
_cod_data_source_file            Sanchez_JMMMDC_1993_439.cif
_cod_data_source_block           Er1Ru2Si2
_cod_original_cell_volume        159.0557
_cod_original_formula_sum        'Er1 Ru2 Si2'
_cod_database_code               1528010
loop_
_symmetry_equiv_pos_as_xyz
x,y,z
-y,x,z
-x,-y,z
y,-x,z
x,-y,-z
y,x,-z
-x,y,-z
-y,-x,-z
-x,-y,-z
y,-x,-z
x,y,-z
-y,x,-z
-x,y,z
-y,-x,z
x,-y,z
y,x,z
x+1/2,y+1/2,z+1/2
-y+1/2,x+1/2,z+1/2
-x+1/2,-y+1/2,z+1/2
y+1/2,-x+1/2,z+1/2
x+1/2,-y+1/2,-z+1/2
y+1/2,x+1/2,-z+1/2
-x+1/2,y+1/2,-z+1/2
-y+1/2,-x+1/2,-z+1/2
-x+1/2,-y+1/2,-z+1/2
y+1/2,-x+1/2,-z+1/2
x+1/2,y+1/2,-z+1/2
-y+1/2,x+1/2,-z+1/2
-x+1/2,y+1/2,z+1/2
-y+1/2,-x+1/2,z+1/2
x+1/2,-y+1/2,z+1/2
y+1/2,x+1/2,z+1/2
loop_
_atom_site_label
_atom_site_type_symbol
_atom_site_fract_x
_atom_site_fract_y
_atom_site_fract_z
_atom_site_occupancy
_atom_site_U_iso_or_equiv
Si1 Si 0 0 0.378 1 0.0
Ru1 Ru 0 0.5 0.25 1 0.0
Er1 Er 0 0 0 1 0.0
