#------------------------------------------------------------------------------
#$Date: 2018-09-27 07:13:35 +0300 (Thu, 27 Sep 2018) $
#$Revision: 211196 $
#$URL: file:///home/coder/svn-repositories/cod/cif/1/52/90/1529036.cif $
#------------------------------------------------------------------------------
#
# This file is available in the Crystallography Open Database (COD),
# http://www.crystallography.net/
#
# All data on this site have been placed in the public domain by the
# contributors.
#
data_1529036
loop_
_publ_author_name
'Yasukochi, K.'
'Kanematsu, K.'
'Ohoyama, T.'
_publ_section_title
;
 Magnetic Properties of Intermetallic Compounds in Iron-Germanium System,
 Fe1.67 Ge and Fe Ge2
;
_journal_name_full               'Journal of the Physical Society of Japan'
_journal_page_first              429
_journal_page_last               433
_journal_volume                  16
_journal_year                    1961
_chemical_formula_sum            'Fe1.67 Ge'
_space_group_IT_number           194
_symmetry_space_group_name_Hall  '-P 6c 2c'
_symmetry_space_group_name_H-M   'P 63/m m c'
_cell_angle_alpha                90
_cell_angle_beta                 90
_cell_angle_gamma                120
_cell_formula_units_Z            2
_cell_length_a                   4.021
_cell_length_b                   4.021
_cell_length_c                   5.027
_cell_volume                     70.389
_citation_journal_id_ASTM        JUPSAU
_cod_data_source_file            Yasukochi_JUPSAU_1961_426.cif
_cod_data_source_block           Fe1.67Ge1
_cod_original_cell_volume        70.38946
_cod_original_formula_sum        'Fe1.67 Ge1'
_cod_database_code               1529036
loop_
_symmetry_equiv_pos_as_xyz
x,y,z
x-y,x,z+1/2
-y,x-y,z
-x,-y,z+1/2
-x+y,-x,z
y,-x+y,z+1/2
-y,-x,-z+1/2
x-y,-y,-z
x,x-y,-z+1/2
y,x,-z
-x+y,y,-z+1/2
-x,-x+y,-z
-x,-y,-z
-x+y,-x,-z-1/2
y,-x+y,-z
x,y,-z-1/2
x-y,x,-z
-y,x-y,-z-1/2
y,x,z-1/2
-x+y,y,z
-x,-x+y,z-1/2
-y,-x,z
x-y,-y,z-1/2
x,x-y,z
loop_
_atom_site_label
_atom_site_type_symbol
_atom_site_fract_x
_atom_site_fract_y
_atom_site_fract_z
_atom_site_occupancy
_atom_site_U_iso_or_equiv
Fe1 Fe 0 0 0 1 0.0
Ge1 Ge 0.3333 0.6667 0.25 1 0.0
Fe2 Fe 0.3333 0.6667 0.75 0.665 0.0
