#------------------------------------------------------------------------------
#$Date: 2016-02-13 21:28:24 +0200 (Sat, 13 Feb 2016) $
#$Revision: 176429 $
#$URL: svn://www.crystallography.net/cod/cif/1/52/95/1529560.cif $
#------------------------------------------------------------------------------
#
# This file is available in the Crystallography Open Database (COD),
# http://www.crystallography.net/
#
# All data on this site have been placed in the public domain by the
# contributors.
#
data_1529560
loop_
_publ_author_name
'Andresen, A.F.'
'Fjellvag, H.'
'Maeland, A.J.'
_publ_section_title
;
 Formation and crystal structure of Th Ni2 D2
;
_journal_name_full               'Journal of the Less-Common Metals'
_journal_page_first              27
_journal_page_last               31
_journal_volume                  103
_journal_year                    1984
_chemical_formula_sum            'D2 Ni2 Th'
_chemical_name_systematic        'Th Ni2 D2'
_space_group_IT_number           191
_symmetry_space_group_name_Hall  '-P 6 2'
_symmetry_space_group_name_H-M   'P 6/m m m'
_cell_angle_alpha                90
_cell_angle_beta                 90
_cell_angle_gamma                120
_cell_formula_units_Z            1
_cell_length_a                   3.87
_cell_length_b                   3.87
_cell_length_c                   3.951
_cell_volume                     51.246
_citation_journal_id_ASTM        JCOMAH
_cod_data_source_file            Andresen_JCOMAH_1984_1043.cif
_cod_data_source_block           D2Ni2Th1
_cod_original_cell_volume        51.24595
_cod_original_formula_sum        'D2 Ni2 Th1'
_cod_database_code               1529560
loop_
_symmetry_equiv_pos_as_xyz
x,y,z
x-y,x,z
-y,x-y,z
-x,-y,z
-x+y,-x,z
y,-x+y,z
-y,-x,-z
x-y,-y,-z
x,x-y,-z
y,x,-z
-x+y,y,-z
-x,-x+y,-z
-x,-y,-z
-x+y,-x,-z
y,-x+y,-z
x,y,-z
x-y,x,-z
-y,x-y,-z
y,x,z
-x+y,y,z
-x,-x+y,z
-y,-x,z
x-y,-y,z
x,x-y,z
loop_
_atom_site_label
_atom_site_type_symbol
_atom_site_fract_x
_atom_site_fract_y
_atom_site_fract_z
_atom_site_occupancy
_atom_site_U_iso_or_equiv
Ni1 Ni 0.3333 0.6667 0.5 1 0.0
D1 D 0.6667 0.3333 0 1 0.0
Th1 Th 0 0 0 1 0.0
