#------------------------------------------------------------------------------
#$Date: 2016-02-13 21:28:24 +0200 (Sat, 13 Feb 2016) $
#$Revision: 176429 $
#$URL: svn://www.crystallography.net/cod/cif/1/53/11/1531193.cif $
#------------------------------------------------------------------------------
#
# This file is available in the Crystallography Open Database (COD),
# http://www.crystallography.net/
#
# All data on this site have been placed in the public domain by the
# contributors.
#
data_1531193
loop_
_publ_author_name
'Cizmas, C.B.'
'Djega-Mariadassou, C.'
'Bessais, L.'
_publ_section_title
;
 Magnetic properties of Gd Fe11-x Six Ti
;
_journal_name_full               'Journal of Alloys Compd.'
_journal_page_first              27
_journal_page_last               35
_journal_volume                  345
_journal_year                    2002
_chemical_formula_sum            'Fe9 Gd Si2 Ti'
_chemical_name_systematic        'Gd Fe9 Ti Si2'
_space_group_IT_number           139
_symmetry_space_group_name_Hall  '-I 4 2'
_symmetry_space_group_name_H-M   'I 4/m m m'
_cell_angle_alpha                90
_cell_angle_beta                 90
_cell_angle_gamma                90
_cell_formula_units_Z            2
_cell_length_a                   8.467
_cell_length_b                   8.467
_cell_length_c                   4.787
_cell_volume                     343.180
_citation_journal_id_ASTM        JALCEU
_cod_data_source_file            Cizmas_JALCEU_2002_549.cif
_cod_data_source_block           Fe9Gd1Si2Ti1
_cod_original_cell_volume        343.1805
_cod_original_formula_sum        'Fe9 Gd1 Si2 Ti1'
_cod_database_code               1531193
loop_
_symmetry_equiv_pos_as_xyz
x,y,z
-y,x,z
-x,-y,z
y,-x,z
x,-y,-z
y,x,-z
-x,y,-z
-y,-x,-z
-x,-y,-z
y,-x,-z
x,y,-z
-y,x,-z
-x,y,z
-y,-x,z
x,-y,z
y,x,z
x+1/2,y+1/2,z+1/2
-y+1/2,x+1/2,z+1/2
-x+1/2,-y+1/2,z+1/2
y+1/2,-x+1/2,z+1/2
x+1/2,-y+1/2,-z+1/2
y+1/2,x+1/2,-z+1/2
-x+1/2,y+1/2,-z+1/2
-y+1/2,-x+1/2,-z+1/2
-x+1/2,-y+1/2,-z+1/2
y+1/2,-x+1/2,-z+1/2
x+1/2,y+1/2,-z+1/2
-y+1/2,x+1/2,-z+1/2
-x+1/2,y+1/2,z+1/2
-y+1/2,-x+1/2,z+1/2
x+1/2,-y+1/2,z+1/2
y+1/2,x+1/2,z+1/2
loop_
_atom_site_label
_atom_site_type_symbol
_atom_site_fract_x
_atom_site_fract_y
_atom_site_fract_z
_atom_site_occupancy
_atom_site_U_iso_or_equiv
Fe1 Fe 0.361 0 0 0.75 0.0
Ti1 Ti 0.361 0 0 0.25 0.0
Fe2 Fe 0.276 0.5 0 0.75 0.0
Gd1 Gd 0 0 0 1 0.0
Si1 Si 0.276 0.5 0 0.25 0.0
Fe3 Fe 0.25 0.25 0.25 0.75 0.0
Si2 Si 0.25 0.25 0.25 0.25 0.0
