#------------------------------------------------------------------------------
#$Date: 2016-02-13 21:28:24 +0200 (Sat, 13 Feb 2016) $
#$Revision: 176429 $
#$URL: svn://www.crystallography.net/cod/cif/1/53/36/1533605.cif $
#------------------------------------------------------------------------------
#
# This file is available in the Crystallography Open Database (COD),
# http://www.crystallography.net/
#
# All data on this site have been placed in the public domain by the
# contributors.
#
data_1533605
loop_
_publ_author_name
'Sologub, O.L.'
'Almeida, M.'
'Rizzoli, C.'
'Goncalves, A.P.'
'Salamakha, P.'
'Ipser, H.'
_publ_section_title
;
 Structural investigation of the ternary R M3 B2 compounds
;
_journal_name_full               'Journal of Alloys Compd.'
_journal_page_first              202
_journal_page_last               207
_journal_volume                  373
_journal_year                    2004
_chemical_formula_sum            'B2 Ce Rh3'
_chemical_name_systematic        'Ce Rh3 B2'
_space_group_IT_number           191
_symmetry_space_group_name_Hall  '-P 6 2'
_symmetry_space_group_name_H-M   'P 6/m m m'
_cell_angle_alpha                90
_cell_angle_beta                 90
_cell_angle_gamma                120
_cell_formula_units_Z            1
_cell_length_a                   5.47
_cell_length_b                   5.47
_cell_length_c                   3.08
_cell_volume                     79.810
_citation_journal_id_ASTM        JALCEU
_cod_data_source_file            Sologub_JALCEU_2004_1490.cif
_cod_data_source_block           B2Ce1Rh3
_cod_original_cell_volume        79.80975
_cod_original_formula_sum        'B2 Ce1 Rh3'
_cod_database_code               1533605
loop_
_symmetry_equiv_pos_as_xyz
x,y,z
x-y,x,z
-y,x-y,z
-x,-y,z
-x+y,-x,z
y,-x+y,z
-y,-x,-z
x-y,-y,-z
x,x-y,-z
y,x,-z
-x+y,y,-z
-x,-x+y,-z
-x,-y,-z
-x+y,-x,-z
y,-x+y,-z
x,y,-z
x-y,x,-z
-y,x-y,-z
y,x,z
-x+y,y,z
-x,-x+y,z
-y,-x,z
x-y,-y,z
x,x-y,z
loop_
_atom_site_label
_atom_site_type_symbol
_atom_site_fract_x
_atom_site_fract_y
_atom_site_fract_z
_atom_site_occupancy
_atom_site_U_iso_or_equiv
Rh1 Rh 0 0.5 0.5 1 0.0
B1 B 0.3333 0.6667 0 1 0.0
Ce1 Ce 0 0 0 1 0.0
