#------------------------------------------------------------------------------
#$Date: 2018-09-27 07:13:35 +0300 (Thu, 27 Sep 2018) $
#$Revision: 211196 $
#$URL: file:///home/coder/svn-repositories/cod/cif/1/53/55/1535546.cif $
#------------------------------------------------------------------------------
#
# This file is available in the Crystallography Open Database (COD),
# http://www.crystallography.net/
#
# All data on this site have been placed in the public domain by the
# contributors.
#
data_1535546
loop_
_publ_author_name
'Hofmann, W.K.'
'Jeitschko, W.'
_publ_section_title
;
 Structural investigations of ternary lanthanoid and uranium nickel
 phosphides
;
_journal_name_full               'Journal of Solid State Chemistry'
_journal_page_first              152
_journal_page_last               158
_journal_volume                  51
_journal_year                    1984
_chemical_formula_sum            'La Ni1.88 P1.9'
_space_group_IT_number           139
_symmetry_space_group_name_Hall  '-I 4 2'
_symmetry_space_group_name_H-M   'I 4/m m m'
_cell_angle_alpha                90
_cell_angle_beta                 90
_cell_angle_gamma                90
_cell_formula_units_Z            2
_cell_length_a                   4.01
_cell_length_b                   4.01
_cell_length_c                   9.604
_cell_volume                     154.433
_citation_journal_id_ASTM        JSSCBI
_cod_data_source_file            Hofmann_JSSCBI_1984_601.cif
_cod_data_source_block           La1Ni1.88P1.9
_cod_original_cell_volume        154.4333
_cod_original_formula_sum        'La1 Ni1.88 P1.9'
_cod_database_code               1535546
loop_
_symmetry_equiv_pos_as_xyz
x,y,z
-y,x,z
-x,-y,z
y,-x,z
x,-y,-z
y,x,-z
-x,y,-z
-y,-x,-z
-x,-y,-z
y,-x,-z
x,y,-z
-y,x,-z
-x,y,z
-y,-x,z
x,-y,z
y,x,z
x+1/2,y+1/2,z+1/2
-y+1/2,x+1/2,z+1/2
-x+1/2,-y+1/2,z+1/2
y+1/2,-x+1/2,z+1/2
x+1/2,-y+1/2,-z+1/2
y+1/2,x+1/2,-z+1/2
-x+1/2,y+1/2,-z+1/2
-y+1/2,-x+1/2,-z+1/2
-x+1/2,-y+1/2,-z+1/2
y+1/2,-x+1/2,-z+1/2
x+1/2,y+1/2,-z+1/2
-y+1/2,x+1/2,-z+1/2
-x+1/2,y+1/2,z+1/2
-y+1/2,-x+1/2,z+1/2
x+1/2,-y+1/2,z+1/2
y+1/2,x+1/2,z+1/2
loop_
_atom_site_label
_atom_site_type_symbol
_atom_site_fract_x
_atom_site_fract_y
_atom_site_fract_z
_atom_site_occupancy
_atom_site_U_iso_or_equiv
Ni1 Ni 0 0.5 0.25 0.942 0.0
La1 La 0 0 0 1 0.0
P1 P 0 0 0.37 0.951 0.0
